BEGIN:VCALENDAR
VERSION:2.0
PRODID:-//FDP Heidelberg - ECPv6.15.20//NONSGML v1.0//EN
CALSCALE:GREGORIAN
METHOD:PUBLISH
X-ORIGINAL-URL:https://fdp-heidelberg.de
X-WR-CALDESC:Veranstaltungen für FDP Heidelberg
REFRESH-INTERVAL;VALUE=DURATION:PT1H
X-Robots-Tag:noindex
X-PUBLISHED-TTL:PT1H
BEGIN:VTIMEZONE
TZID:Europe/Berlin
BEGIN:DAYLIGHT
TZOFFSETFROM:+0100
TZOFFSETTO:+0200
TZNAME:CEST
DTSTART:20210328T010000
END:DAYLIGHT
BEGIN:STANDARD
TZOFFSETFROM:+0200
TZOFFSETTO:+0100
TZNAME:CET
DTSTART:20211031T010000
END:STANDARD
BEGIN:DAYLIGHT
TZOFFSETFROM:+0100
TZOFFSETTO:+0200
TZNAME:CEST
DTSTART:20220327T010000
END:DAYLIGHT
BEGIN:STANDARD
TZOFFSETFROM:+0200
TZOFFSETTO:+0100
TZNAME:CET
DTSTART:20221030T010000
END:STANDARD
BEGIN:DAYLIGHT
TZOFFSETFROM:+0100
TZOFFSETTO:+0200
TZNAME:CEST
DTSTART:20230326T010000
END:DAYLIGHT
BEGIN:STANDARD
TZOFFSETFROM:+0200
TZOFFSETTO:+0100
TZNAME:CET
DTSTART:20231029T010000
END:STANDARD
END:VTIMEZONE
BEGIN:VEVENT
DTSTART;TZID=Europe/Berlin:20220503T193000
DTEND;TZID=Europe/Berlin:20220503T210000
DTSTAMP:20260425T122251
CREATED:20220411T122448Z
LAST-MODIFIED:20220411T122448Z
UID:9358-1651606200-1651611600@fdp-heidelberg.de
SUMMARY:Migration - Chancen und Herausforderungen
DESCRIPTION:Momentan ist Migration wieder überall Thema; Geflüchtete aus der Ukraine kommen zu tausenden an deutschen Bahnhöfen an. Mittlerweile auch im Südwesten. Darüber wollen wir reden!\nAm 3.05 ist Benjamin Strasser\, MdB\, Zugast. \nGemeinsam mit der Vereinigung „Liberale Vielfalt“ reden wir mit Herr Strasser\, Parlamentarischer Staatssekretär im Justizministerium\, über Migration. Thematisch soll es von der kurzfristigen Versorgung der Geflüchteten über die längere Perspektive\, die Eingliederung in den Arbeitsmarkt bis hin zur Eingliederung in die deutsche Gesellschaft gehen. Und da Herr Strasser in der vergangenen Legislatur Ob-Mann im Innenausschuss für die FDP war\, uns somit zuständig für Bundespolizei\, Zoll\, BKA usw. kann er auch über die Sicherheitspolitische Perspektive von Migration ausführlich Berichten. \nAm 3.5.2022 ab 19:30 in der Geschäftsstelle der FDP Heidelberg\, im Breitspiel 17. \nWir freuen uns auf Sie!
URL:https://fdp-heidelberg.de/termin/migration-chancen-und-herausforderungen/
LOCATION:Kreisgeschäftsstelle\, Im Breitspiel 17\, Heidelberg\, Baden-Württemberg\, 69126\, Deutschland
CATEGORIES:MdB-Veranstaltungen
ATTACH;FMTTYPE=image/jpeg:https://fdp-heidelberg.de/wp-content/uploads/2022/04/Portraet_Benjamin_Strasser.jpg
END:VEVENT
END:VCALENDAR