BEGIN:VCALENDAR
VERSION:2.0
PRODID:-//FDP Heidelberg - ECPv6.15.20//NONSGML v1.0//EN
CALSCALE:GREGORIAN
METHOD:PUBLISH
X-ORIGINAL-URL:https://fdp-heidelberg.de
X-WR-CALDESC:Veranstaltungen für FDP Heidelberg
REFRESH-INTERVAL;VALUE=DURATION:PT1H
X-Robots-Tag:noindex
X-PUBLISHED-TTL:PT1H
BEGIN:VTIMEZONE
TZID:Europe/Berlin
BEGIN:DAYLIGHT
TZOFFSETFROM:+0100
TZOFFSETTO:+0200
TZNAME:CEST
DTSTART:20250330T010000
END:DAYLIGHT
BEGIN:STANDARD
TZOFFSETFROM:+0200
TZOFFSETTO:+0100
TZNAME:CET
DTSTART:20251026T010000
END:STANDARD
BEGIN:DAYLIGHT
TZOFFSETFROM:+0100
TZOFFSETTO:+0200
TZNAME:CEST
DTSTART:20260329T010000
END:DAYLIGHT
BEGIN:STANDARD
TZOFFSETFROM:+0200
TZOFFSETTO:+0100
TZNAME:CET
DTSTART:20261025T010000
END:STANDARD
BEGIN:DAYLIGHT
TZOFFSETFROM:+0100
TZOFFSETTO:+0200
TZNAME:CEST
DTSTART:20270328T010000
END:DAYLIGHT
BEGIN:STANDARD
TZOFFSETFROM:+0200
TZOFFSETTO:+0100
TZNAME:CET
DTSTART:20271031T010000
END:STANDARD
END:VTIMEZONE
BEGIN:VEVENT
DTSTART;TZID=Europe/Berlin:20260211T190000
DTEND;TZID=Europe/Berlin:20260211T210000
DTSTAMP:20260420T093941
CREATED:20260210T213611Z
LAST-MODIFIED:20260210T213712Z
UID:12363-1770836400-1770843600@fdp-heidelberg.de
SUMMARY:Liberaler Stammtisch
DESCRIPTION:Am zweiten Mittwoch im Monat treffen sich die Heidelberger Liberalen zum liberalen Stammtisch. Es werden Informationen gegeben und diskutiert über Politik und die aktuellen Geschehnisse in Heidelberg\, Baden-Württemberg\, Deutschland und sonst wo und über alles andere. Das Ganze bei dem ein oder anderen Getränk. Kommen Sie gerne dazu! \nIm Don Robert\, Alte Eppelheimer Straße 11\, am 11. Februar ab 19:00 Uhr.
URL:https://fdp-heidelberg.de/termin/liberaler-stammtisch-13-2/
LOCATION:Don Robert\, Alte Eppelheimer Straße 11\, Heidelberg\, Baden-Württemberg\, 69115
CATEGORIES:Stammtisch
ATTACH;FMTTYPE=image/jpeg:https://fdp-heidelberg.de/wp-content/uploads/2024/10/beer-3570298_1920.jpg
END:VEVENT
END:VCALENDAR