BEGIN:VCALENDAR
VERSION:2.0
PRODID:-//FDP Heidelberg - ECPv6.15.20//NONSGML v1.0//EN
CALSCALE:GREGORIAN
METHOD:PUBLISH
X-ORIGINAL-URL:https://fdp-heidelberg.de
X-WR-CALDESC:Veranstaltungen für FDP Heidelberg
REFRESH-INTERVAL;VALUE=DURATION:PT1H
X-Robots-Tag:noindex
X-PUBLISHED-TTL:PT1H
BEGIN:VTIMEZONE
TZID:Europe/Berlin
BEGIN:DAYLIGHT
TZOFFSETFROM:+0100
TZOFFSETTO:+0200
TZNAME:CEST
DTSTART:20250330T010000
END:DAYLIGHT
BEGIN:STANDARD
TZOFFSETFROM:+0200
TZOFFSETTO:+0100
TZNAME:CET
DTSTART:20251026T010000
END:STANDARD
BEGIN:DAYLIGHT
TZOFFSETFROM:+0100
TZOFFSETTO:+0200
TZNAME:CEST
DTSTART:20260329T010000
END:DAYLIGHT
BEGIN:STANDARD
TZOFFSETFROM:+0200
TZOFFSETTO:+0100
TZNAME:CET
DTSTART:20261025T010000
END:STANDARD
BEGIN:DAYLIGHT
TZOFFSETFROM:+0100
TZOFFSETTO:+0200
TZNAME:CEST
DTSTART:20270328T010000
END:DAYLIGHT
BEGIN:STANDARD
TZOFFSETFROM:+0200
TZOFFSETTO:+0100
TZNAME:CET
DTSTART:20271031T010000
END:STANDARD
END:VTIMEZONE
BEGIN:VEVENT
DTSTART;TZID=Europe/Berlin:20260119T190000
DTEND;TZID=Europe/Berlin:20260119T210000
DTSTAMP:20260420T114203
CREATED:20250825T071205Z
LAST-MODIFIED:20251210T085634Z
UID:12057-1768849200-1768856400@fdp-heidelberg.de
SUMMARY:Veranstaltungshinweis: Save the Date - Veranstaltung der Friedrich Naumann Stiftung mit Prof. Dr. Dr. h.c. Lars P. Feld\, Wirtschaftswissenschaftler und Politikberater
DESCRIPTION:Prof. Dr. Lars P. Feld ist ein renommierter Wirtschaftswissenschaftler und gefragter Politikberater. Mit seiner fundierten Expertise in Wirtschaftspolitik und öffentlicher Finanzwirtschaft bringt er tiefgehende Einsichten und innovative Ansätze in die wirtschaftspolitische Diskussion ein. Als Professor und Direktor des Walter Eucken Instituts teilt er sein Wissen und seine Analysen mit einem breiten Publikum und trägt zur Gestaltung zukunftsfähiger Wirtschaftsstrategien bei.
URL:https://fdp-heidelberg.de/termin/veranstaltungshinweis-save-the-date-veranstaltung-der-friedrich-naumann-stiftung-mit-prof-dr-dr-h-c-lars-p-feld-wirtschaftswissenschaftler-und-politikberater/
LOCATION:Hilton\, Kurfürsten-Anlage 1\, Kurfürsten-Anlage 1\, Heidelberg\, 69115
CATEGORIES:Externe Veranstaltung
ATTACH;FMTTYPE=image/png:https://fdp-heidelberg.de/wp-content/uploads/2025/08/Lars-P-Feld.png
END:VEVENT
END:VCALENDAR