BEGIN:VCALENDAR
VERSION:2.0
PRODID:-//FDP Heidelberg - ECPv6.15.20//NONSGML v1.0//EN
CALSCALE:GREGORIAN
METHOD:PUBLISH
X-ORIGINAL-URL:https://fdp-heidelberg.de
X-WR-CALDESC:Veranstaltungen für FDP Heidelberg
REFRESH-INTERVAL;VALUE=DURATION:PT1H
X-Robots-Tag:noindex
X-PUBLISHED-TTL:PT1H
BEGIN:VTIMEZONE
TZID:Europe/Berlin
BEGIN:DAYLIGHT
TZOFFSETFROM:+0100
TZOFFSETTO:+0200
TZNAME:CEST
DTSTART:20250330T010000
END:DAYLIGHT
BEGIN:STANDARD
TZOFFSETFROM:+0200
TZOFFSETTO:+0100
TZNAME:CET
DTSTART:20251026T010000
END:STANDARD
BEGIN:DAYLIGHT
TZOFFSETFROM:+0100
TZOFFSETTO:+0200
TZNAME:CEST
DTSTART:20260329T010000
END:DAYLIGHT
BEGIN:STANDARD
TZOFFSETFROM:+0200
TZOFFSETTO:+0100
TZNAME:CET
DTSTART:20261025T010000
END:STANDARD
BEGIN:DAYLIGHT
TZOFFSETFROM:+0100
TZOFFSETTO:+0200
TZNAME:CEST
DTSTART:20270328T010000
END:DAYLIGHT
BEGIN:STANDARD
TZOFFSETFROM:+0200
TZOFFSETTO:+0100
TZNAME:CET
DTSTART:20271031T010000
END:STANDARD
END:VTIMEZONE
BEGIN:VEVENT
DTSTART;TZID=Europe/Berlin:20260107T190000
DTEND;TZID=Europe/Berlin:20260107T190000
DTSTAMP:20260421T142918
CREATED:20250825T062618Z
LAST-MODIFIED:20260107T163700Z
UID:12054-1767812400-1767812400@fdp-heidelberg.de
SUMMARY:Neujahrsempfang der FDP Heidelberg mit Christian Dürr\, Bundesvorsitzender der FDP
DESCRIPTION:Am Mittwoch\, den 07.01. findet unser Neujahrsempfang statt. Wir freuen uns sehr darüber\, dass wir unseren Bundesvorsitzenden Christian Dürr als Gast hierfür gewinnen konnten. Weiterhin erwartet Sie eine Ansprache unsere Kreisvorsitzenden und Landtagskandidaten Tim Nusser. Für Speisen und Getränke ist gesorgt. \nVielen Dank für Ihr Interesse. Die Anmeldung für die Veranstaltung ist mittlerweile geschlossen. Etwaige Restplätze werden ab 19:15 Uhr vor Ort vergeben.
URL:https://fdp-heidelberg.de/termin/save-the-date-neujahrsempfang-der-fdp-heidelberg-mit-christian-duerr-vorsitzender-der-fdp/
LOCATION:Zum Achter Heidelberg\, Neuenheimer Landstraße 3A\, Heidelberg\, 69120\, Deutschland
CATEGORIES:Feste
ATTACH;FMTTYPE=image/jpeg:https://fdp-heidelberg.de/wp-content/uploads/2025/08/Pressebild-Christian-Duerr.jpg
END:VEVENT
BEGIN:VEVENT
DTSTART;TZID=Europe/Berlin:20260108T190000
DTEND;TZID=Europe/Berlin:20260108T190000
DTSTAMP:20260421T142918
CREATED:20251217T111615Z
LAST-MODIFIED:20251217T111615Z
UID:12294-1767898800-1767898800@fdp-heidelberg.de
SUMMARY:Kick-Off zur Landtagswahl
DESCRIPTION:Beim Kick-Off zur Landtagswahl für Mitglieder besprechen wir unsere Kommunikationsstrategie\, planen Veranstaltungen und Aktionen und bereiten unsere Einsätze an den Wahlkampfständen und in den Stadtteilen vor. Erfahrene Wahlkämpfer und neue Gesichter sind herzlich willkommen!
URL:https://fdp-heidelberg.de/termin/kick-off-zur-landtagswahl/
LOCATION:Kreisgeschäftsstelle\, Im Breitspiel 17\, Heidelberg\, Baden-Württemberg\, 69126\, Deutschland
CATEGORIES:Interne Veranstaltungen
ATTACH;FMTTYPE=image/png:https://fdp-heidelberg.de/wp-content/uploads/2025/12/ltw2026.png
END:VEVENT
BEGIN:VEVENT
DTSTART;TZID=Europe/Berlin:20260114T190000
DTEND;TZID=Europe/Berlin:20260114T210000
DTSTAMP:20260421T142918
CREATED:20251217T122206Z
LAST-MODIFIED:20251217T122206Z
UID:12305-1768417200-1768424400@fdp-heidelberg.de
SUMMARY:Liberaler Stammtisch
DESCRIPTION:Am zweiten Mittwoch im Monat treffen sich die Heidelberger Liberalen zum liberalen Stammtisch. Es werden Informationen gegeben und diskutiert über Politik und die aktuellen Geschehnisse in Heidelberg\, Baden-Württemberg\, Deutschland und sonst wo und über alles andere. Das Ganze bei dem ein oder anderen Getränk. Kommen Sie gerne dazu! \nIm Don Robert\, Alte Eppelheimer Straße 11\, am 14. Januar ab 19:00 Uhr.
URL:https://fdp-heidelberg.de/termin/liberaler-stammtisch-13/
LOCATION:Don Robert\, Alte Eppelheimer Straße 11\, Heidelberg\, Baden-Württemberg\, 69115
CATEGORIES:Stammtisch
ATTACH;FMTTYPE=image/jpeg:https://fdp-heidelberg.de/wp-content/uploads/2024/10/beer-3570298_1920.jpg
END:VEVENT
BEGIN:VEVENT
DTSTART;TZID=Europe/Berlin:20260119T190000
DTEND;TZID=Europe/Berlin:20260119T210000
DTSTAMP:20260421T142918
CREATED:20250825T071205Z
LAST-MODIFIED:20251210T085634Z
UID:12057-1768849200-1768856400@fdp-heidelberg.de
SUMMARY:Veranstaltungshinweis: Save the Date - Veranstaltung der Friedrich Naumann Stiftung mit Prof. Dr. Dr. h.c. Lars P. Feld\, Wirtschaftswissenschaftler und Politikberater
DESCRIPTION:Prof. Dr. Lars P. Feld ist ein renommierter Wirtschaftswissenschaftler und gefragter Politikberater. Mit seiner fundierten Expertise in Wirtschaftspolitik und öffentlicher Finanzwirtschaft bringt er tiefgehende Einsichten und innovative Ansätze in die wirtschaftspolitische Diskussion ein. Als Professor und Direktor des Walter Eucken Instituts teilt er sein Wissen und seine Analysen mit einem breiten Publikum und trägt zur Gestaltung zukunftsfähiger Wirtschaftsstrategien bei.
URL:https://fdp-heidelberg.de/termin/veranstaltungshinweis-save-the-date-veranstaltung-der-friedrich-naumann-stiftung-mit-prof-dr-dr-h-c-lars-p-feld-wirtschaftswissenschaftler-und-politikberater/
LOCATION:Hilton\, Kurfürsten-Anlage 1\, Kurfürsten-Anlage 1\, Heidelberg\, 69115
CATEGORIES:Externe Veranstaltung
ATTACH;FMTTYPE=image/png:https://fdp-heidelberg.de/wp-content/uploads/2025/08/Lars-P-Feld.png
END:VEVENT
BEGIN:VEVENT
DTSTART;TZID=Europe/Berlin:20260131T150000
DTEND;TZID=Europe/Berlin:20260131T150000
DTSTAMP:20260421T142918
CREATED:20250825T072121Z
LAST-MODIFIED:20260120T091148Z
UID:12060-1769871600-1769871600@fdp-heidelberg.de
SUMMARY:Bürgerdialog mit Lydia Hüskens\, Ministerin für Infrastruktur und Digitales (Sachsen-Anhalt)
DESCRIPTION:Beim Bürgerdialog „Digitaler Fortschritt. Moderne Infrastruktur.“ diskutieren wir\, wie Baden-Württemberg digitaler\, schneller und zukunftsfester werden kann. Mit Lydia Hüskens\, Ministerin für Infrastruktur und Digitales des Landes Sachsen-Anhalt\, sprechen wir über konkrete Lösungen für leistungsfähige Netze\, moderne Verwaltung und eine Infrastruktur\, die mit den Anforderungen von morgen Schritt hält. Bringen Sie Ihre Fragen und Perspektiven ein! \nZu Planungszwecken wird um Anmeldung gebeten.
URL:https://fdp-heidelberg.de/termin/save-the-date-treffen-mit-frau-lydia-hueskens-ministerin-fuer-infrastruktur-und-digitales-sachsen-anhalt/
LOCATION:Bürgerzentrum Neuenheim\, Lutherstraße 18\, Heidelberg\, 69120
ATTACH;FMTTYPE=image/png:https://fdp-heidelberg.de/wp-content/uploads/2025/08/hueskens.png
END:VEVENT
END:VCALENDAR