BEGIN:VCALENDAR
VERSION:2.0
PRODID:-//FDP Heidelberg - ECPv6.15.20//NONSGML v1.0//EN
CALSCALE:GREGORIAN
METHOD:PUBLISH
X-ORIGINAL-URL:https://fdp-heidelberg.de
X-WR-CALDESC:Veranstaltungen für FDP Heidelberg
REFRESH-INTERVAL;VALUE=DURATION:PT1H
X-Robots-Tag:noindex
X-PUBLISHED-TTL:PT1H
BEGIN:VTIMEZONE
TZID:Europe/Berlin
BEGIN:DAYLIGHT
TZOFFSETFROM:+0100
TZOFFSETTO:+0200
TZNAME:CEST
DTSTART:20240331T010000
END:DAYLIGHT
BEGIN:STANDARD
TZOFFSETFROM:+0200
TZOFFSETTO:+0100
TZNAME:CET
DTSTART:20241027T010000
END:STANDARD
BEGIN:DAYLIGHT
TZOFFSETFROM:+0100
TZOFFSETTO:+0200
TZNAME:CEST
DTSTART:20250330T010000
END:DAYLIGHT
BEGIN:STANDARD
TZOFFSETFROM:+0200
TZOFFSETTO:+0100
TZNAME:CET
DTSTART:20251026T010000
END:STANDARD
BEGIN:DAYLIGHT
TZOFFSETFROM:+0100
TZOFFSETTO:+0200
TZNAME:CEST
DTSTART:20260329T010000
END:DAYLIGHT
BEGIN:STANDARD
TZOFFSETFROM:+0200
TZOFFSETTO:+0100
TZNAME:CET
DTSTART:20261025T010000
END:STANDARD
END:VTIMEZONE
BEGIN:VEVENT
DTSTART;TZID=Europe/Berlin:20251104T190000
DTEND;TZID=Europe/Berlin:20251104T210000
DTSTAMP:20260421T173246
CREATED:20251027T113100Z
LAST-MODIFIED:20251027T113100Z
UID:12191-1762282800-1762290000@fdp-heidelberg.de
SUMMARY:Grundsatzprogramm - Workshop: "Zukunft gestalten - liberal Denken"
DESCRIPTION:Der Workshop\, der vom KV Rhein-Neckar veranstaltet wird\, gibt die Gelegenheit sich zu folgenden Themen des Grundsatzprogramms auszutauschen und weitere Ideen hierzu zu erarbeiten und an die Programmkommission weiterzuleiten. Dr. Jens Brandenburg (Mitglied der Programmkommission) wird den Prozess vor Ort unterstützen: \n\n\n\nBauen\, Wohnen\, Bleiben – Infrastruktur für alle Lebenslagen\n\n\n\n\n\n\nBildungsnation Deutschland – vom vernachlässigten Rohstoff zum Gamechanger\n\n\n\n\n\n\nVon der Komfortzone zu neuem Erfolg – Politik für Leistung und Anpacken
URL:https://fdp-heidelberg.de/termin/treffen-mit-daniela-schmitt-mdl-ministerin-fuer-wirtschaft-rheinland-pfalz-2/
LOCATION:Hotel Arts Konoba\, Ludwigstr. 4\, St. Leon-Roth\, 68789
CATEGORIES:Referentenveranstaltungen
END:VEVENT
BEGIN:VEVENT
DTSTART;TZID=Europe/Berlin:20251110T190000
DTEND;TZID=Europe/Berlin:20251110T210000
DTSTAMP:20260421T173246
CREATED:20250825T072710Z
LAST-MODIFIED:20251028T112757Z
UID:12067-1762801200-1762808400@fdp-heidelberg.de
SUMMARY:Treffen mit Daniela Schmitt\, MdL\, Ministerin für Wirtschaft (Rheinland-Pfalz)
DESCRIPTION:Frau Ministerin Schmitt wird über wirtschaftliche Themen speziell mit Bezug zur Länderebene sprechen. Danach wird es eine Diskussionsrunde\, unter anderem mit Paul Muck (parteilos) von den Wirtschafts-Junioren Heidelberg\, geben. Paul Muck ist Geschäftsführer der Fa. Muck Automotive.
URL:https://fdp-heidelberg.de/termin/treffen-mit-daniela-schmitt-mdl-ministerin-fuer-wirtschaft-rheinland-pfalz/
LOCATION:B3 – Bürgerhaus Bahnstadt\, Gadamerplatz 1\, Heidelberg\, 69115\, Germany
CATEGORIES:Referentenveranstaltungen
ATTACH;FMTTYPE=image/png:https://fdp-heidelberg.de/wp-content/uploads/2025/08/schmitt-wj.png
END:VEVENT
BEGIN:VEVENT
DTSTART;TZID=Europe/Berlin:20251112T190000
DTEND;TZID=Europe/Berlin:20251112T210000
DTSTAMP:20260421T173246
CREATED:20251028T083902Z
LAST-MODIFIED:20251028T083919Z
UID:12205-1762974000-1762981200@fdp-heidelberg.de
SUMMARY:Liberaler Stammtisch
DESCRIPTION:Am zweiten Mittwoch im Monat treffen sich die Heidelberger Liberalen zum liberalen Stammtisch. Es werden Informationen gegeben und diskutiert über Politik und die aktuellen Geschehnisse in Heidelberg\, Baden-Württemberg\, Deutschland und sonst wo und über alles andere. Das Ganze bei dem ein oder anderen Getränk. Kommen Sie gerne dazu! \nIm Don Robert\, Alte Eppelheimer Straße 11\, am 12. November ab 19:00 Uhr.
URL:https://fdp-heidelberg.de/termin/liberaler-stammtisch-12/
LOCATION:Don Robert\, Alte Eppelheimer Straße 11\, Heidelberg\, Baden-Württemberg\, 69115
CATEGORIES:Stammtisch
ATTACH;FMTTYPE=image/jpeg:https://fdp-heidelberg.de/wp-content/uploads/2024/10/beer-3570298_1920.jpg
END:VEVENT
BEGIN:VEVENT
DTSTART;TZID=Europe/Berlin:20251117T193000
DTEND;TZID=Europe/Berlin:20251117T210000
DTSTAMP:20260421T173246
CREATED:20250923T191144Z
LAST-MODIFIED:20250923T191144Z
UID:12110-1763407800-1763413200@fdp-heidelberg.de
SUMMARY:Bezirksbeiratstreffen
DESCRIPTION:Eine Zusammenkunft von den Bezirksbeiräten mit Gemeinderatsfraktion und der Partei um über die Lage in den Stadtteilen zu reden\, Ideen auszutauschen und zukünftige Veranstaltungen und weiteres zu planen.
URL:https://fdp-heidelberg.de/termin/bezirksbeiratstreffen/
LOCATION:Kreisgeschäftsstelle\, Im Breitspiel 17\, Heidelberg\, Baden-Württemberg\, 69126\, Deutschland
CATEGORIES:Fraktionsveranstaltungen,Interne Veranstaltungen
END:VEVENT
BEGIN:VEVENT
DTSTART;TZID=Europe/Berlin:20251118T193000
DTEND;TZID=Europe/Berlin:20251118T220000
DTSTAMP:20260421T173246
CREATED:20251015T063102Z
LAST-MODIFIED:20251028T113011Z
UID:12167-1763494200-1763503200@fdp-heidelberg.de
SUMMARY:FDP Kurpfalz - Bezirksparteitag
DESCRIPTION:Auf dem kommenden Bezirksparteitag wird unter anderem ein neuer Bezirksvorstand gewählt. Stimmberechtigt sind die Delegierten\, herzlich eingeladen zur Teilnahme sind jedoch alle Mitglieder.
URL:https://fdp-heidelberg.de/termin/fdp-kurpfalz-bezirksparteitag-2025/
LOCATION:Hotel-Restaurant Ludwigstal\, Strahlenberger Straße 2\, Schriesheim\, 69198\, Germany
CATEGORIES:Externe Veranstaltung,Parteitage
END:VEVENT
BEGIN:VEVENT
DTSTART;TZID=Europe/Berlin:20251126T190000
DTEND;TZID=Europe/Berlin:20251126T210000
DTSTAMP:20260421T173246
CREATED:20251027T113739Z
LAST-MODIFIED:20251027T113739Z
UID:12197-1764183600-1764190800@fdp-heidelberg.de
SUMMARY:Grundsatzprogramm - Workshop: "Zukunft gestalten - liberal Denken" II
DESCRIPTION:Der Workshop\, der vom KV Heidelberg zusammen mit dem KV Rhein-Neckar veranstaltet wird\, gibt die Gelegenheit sich zu folgenden Themen des Grundsatzprogramms auszutauschen und weitere Ideen hierzu zu erarbeiten und an die Programmkommission weiterzuleiten. Dr. Jens Brandenburg (Mitglied der Programmkommission) wird den Prozess vor Ort unterstützen: \nKI – Deutschland im Aufbruch: Modernisierung schafft neue Zuversicht \nMigration – Migrations-Matrix: Chancen nutzen\, Regeln durchsetzen \nRente – Generationengerechtigkeit: Ehrliche Lösungen statt Leben von der Substanz
URL:https://fdp-heidelberg.de/termin/treffen-mit-daniela-schmitt-mdl-ministerin-fuer-wirtschaft-rheinland-pfalz-2-2/
LOCATION:FDP Geschäftsstelle\, Im Breitspiel 17\, Heidelberg\, 69126\, Germany
CATEGORIES:Referentenveranstaltungen
END:VEVENT
END:VCALENDAR