BEGIN:VCALENDAR
VERSION:2.0
PRODID:-//FDP Heidelberg - ECPv6.15.20//NONSGML v1.0//EN
CALSCALE:GREGORIAN
METHOD:PUBLISH
X-ORIGINAL-URL:https://fdp-heidelberg.de
X-WR-CALDESC:Veranstaltungen für FDP Heidelberg
REFRESH-INTERVAL;VALUE=DURATION:PT1H
X-Robots-Tag:noindex
X-PUBLISHED-TTL:PT1H
BEGIN:VTIMEZONE
TZID:Europe/Berlin
BEGIN:DAYLIGHT
TZOFFSETFROM:+0100
TZOFFSETTO:+0200
TZNAME:CEST
DTSTART:20240331T010000
END:DAYLIGHT
BEGIN:STANDARD
TZOFFSETFROM:+0200
TZOFFSETTO:+0100
TZNAME:CET
DTSTART:20241027T010000
END:STANDARD
BEGIN:DAYLIGHT
TZOFFSETFROM:+0100
TZOFFSETTO:+0200
TZNAME:CEST
DTSTART:20250330T010000
END:DAYLIGHT
BEGIN:STANDARD
TZOFFSETFROM:+0200
TZOFFSETTO:+0100
TZNAME:CET
DTSTART:20251026T010000
END:STANDARD
BEGIN:DAYLIGHT
TZOFFSETFROM:+0100
TZOFFSETTO:+0200
TZNAME:CEST
DTSTART:20260329T010000
END:DAYLIGHT
BEGIN:STANDARD
TZOFFSETFROM:+0200
TZOFFSETTO:+0100
TZNAME:CET
DTSTART:20261025T010000
END:STANDARD
END:VTIMEZONE
BEGIN:VEVENT
DTSTART;TZID=Europe/Berlin:20251006T160000
DTEND;TZID=Europe/Berlin:20251006T160000
DTSTAMP:20260421T185927
CREATED:20250826T045643Z
LAST-MODIFIED:20250930T184009Z
UID:12082-1759766400-1759766400@fdp-heidelberg.de
SUMMARY:Marie-Agnes Strack-Zimmermann & Bernd Grzeszick - Gemeinsame Verteidigung: Europäische Pflicht oder ­Illusion?
DESCRIPTION:Braucht Europa eine eigene Armee? Angesichts globaler Krisen\, wachsender sicherheitspolitischer Herausforderungen und einer sich wandelnden transatlantischen Partnerschaft rückt die Debatte um eine gemeinsame europäische Verteidigung in den Fokus. Marie-Agnes Strack-Zimmermann plädiert für eine stärkere europäische Handlungsfähigkeit. Bernd Grzeszick beleuchtet die verfassungsrechtlichen Voraussetzungen und Hürden eines solchen Projekts. Miteinander denken sie über Möglichkeiten der gemeinsamen Verteidigung nach. \nDr. Marie-Agnes Strack-Zimmermann ist seit 2019 Mitglied des FDP-Bundesvorstandes und Vorsitzende des Sicherheits- und Verteidigungsausschusses im Europaparlament. \nProf. Dr. Bernd Grzeszick ist Direktor des Instituts für Staatsrecht\, Verfassungslehre und Rechtsphilosophie der Universität Heidelberg. \n\nVerschoben: Marie-Agnes Strack-Zimmermann & Bernd Grzeszick
URL:https://fdp-heidelberg.de/termin/veranstaltungshinweis-marie-agnes-strack-zimmermann-bernd-grzeszick-gemeinsame-verteidigung-europaeische-pflicht-oder-illusion/
LOCATION:DAI Heidelberg\, Sofienstraße 12\, Heidelberg\, 69117
ATTACH;FMTTYPE=image/jpeg:https://fdp-heidelberg.de/wp-content/uploads/2025/08/251006_StrackZimmermann-GrzeszickBernd_c_privat.jpg
END:VEVENT
BEGIN:VEVENT
DTSTART;TZID=Europe/Berlin:20251008T190000
DTEND;TZID=Europe/Berlin:20251008T210000
DTSTAMP:20260421T185927
CREATED:20250925T083746Z
LAST-MODIFIED:20250925T083746Z
UID:12114-1759950000-1759957200@fdp-heidelberg.de
SUMMARY:Liberaler Stammtisch
DESCRIPTION:Am zweiten Mittwoch im Monat treffen sich die Heidelberger Liberalen zum liberalen Stammtisch. Es werden Informationen gegeben und diskutiert über Politik und die aktuellen Geschehnisse in Heidelberg\, Baden-Württemberg\, Deutschland und sonst wo\, und über alles andere. Das Ganze bei dem ein oder anderen Getränk. Kommen Sie gerne dazu! \nIm Don Robert\, Alte Eppelheimer Straße 11\, am 8. Oktober ab 19:00 Uhr.
URL:https://fdp-heidelberg.de/termin/liberaler-stammtisch-11-2/
LOCATION:Don Robert\, Alte Eppelheimer Straße 11\, Heidelberg\, Baden-Württemberg\, 69115
CATEGORIES:Stammtisch
ATTACH;FMTTYPE=image/jpeg:https://fdp-heidelberg.de/wp-content/uploads/2024/10/beer-3570298_1920.jpg
END:VEVENT
BEGIN:VEVENT
DTSTART;TZID=Europe/Berlin:20251020T193000
DTEND;TZID=Europe/Berlin:20251020T210000
DTSTAMP:20260421T185927
CREATED:20250925T091230Z
LAST-MODIFIED:20251015T104522Z
UID:12117-1760988600-1760994000@fdp-heidelberg.de
SUMMARY:Veranstaltungshinweis: Dr. Jens Brandenburg ex. MdB und Parlamentarischer Staatssekretär
DESCRIPTION:Dr. Jens Brandenburg\, FDP Rhein-Neckar\, wird uns am 20.10.25 um 19:30 besuchen\, um uns eine Analyse der Bundestagswahlen 2025 und was wir in der Zeit davor hätten besser machen können\, vorzustellen.
URL:https://fdp-heidelberg.de/termin/veranstaltungshinweis-save-the-date-veranstaltung-der-friedrich-naumann-stiftung-mit-prof-dr-dr-h-c-lars-p-feld-wirtschaftswissenschaftler-und-politikberater-2/
LOCATION:FDP Geschäftsstelle\, Im Breitspiel 17\, Heidelberg\, 69126\, Germany
CATEGORIES:Externe Veranstaltung,Referentenveranstaltungen
ATTACH;FMTTYPE=image/png:https://fdp-heidelberg.de/wp-content/uploads/2025/09/Jens-Brandenburg.png
END:VEVENT
END:VCALENDAR