BEGIN:VCALENDAR
VERSION:2.0
PRODID:-//FDP Heidelberg - ECPv6.15.20//NONSGML v1.0//EN
CALSCALE:GREGORIAN
METHOD:PUBLISH
X-WR-CALNAME:FDP Heidelberg
X-ORIGINAL-URL:https://fdp-heidelberg.de
X-WR-CALDESC:Veranstaltungen für FDP Heidelberg
REFRESH-INTERVAL;VALUE=DURATION:PT1H
X-Robots-Tag:noindex
X-PUBLISHED-TTL:PT1H
BEGIN:VTIMEZONE
TZID:Europe/Berlin
BEGIN:DAYLIGHT
TZOFFSETFROM:+0100
TZOFFSETTO:+0200
TZNAME:CEST
DTSTART:20240331T010000
END:DAYLIGHT
BEGIN:STANDARD
TZOFFSETFROM:+0200
TZOFFSETTO:+0100
TZNAME:CET
DTSTART:20241027T010000
END:STANDARD
BEGIN:DAYLIGHT
TZOFFSETFROM:+0100
TZOFFSETTO:+0200
TZNAME:CEST
DTSTART:20250330T010000
END:DAYLIGHT
BEGIN:STANDARD
TZOFFSETFROM:+0200
TZOFFSETTO:+0100
TZNAME:CET
DTSTART:20251026T010000
END:STANDARD
BEGIN:DAYLIGHT
TZOFFSETFROM:+0100
TZOFFSETTO:+0200
TZNAME:CEST
DTSTART:20260329T010000
END:DAYLIGHT
BEGIN:STANDARD
TZOFFSETFROM:+0200
TZOFFSETTO:+0100
TZNAME:CET
DTSTART:20261025T010000
END:STANDARD
END:VTIMEZONE
BEGIN:VEVENT
DTSTART;TZID=Europe/Berlin:20250813T190000
DTEND;TZID=Europe/Berlin:20250813T210000
DTSTAMP:20260421T214800
CREATED:20250611T101640Z
LAST-MODIFIED:20250611T101640Z
UID:11941-1755111600-1755118800@fdp-heidelberg.de
SUMMARY:Liberaler Stammtisch
DESCRIPTION:Am zweiten Mittwoch im Monat treffen sich die Heidelberger Liberalen zum liberalen Stammtisch. Über Politik\, in Heidelberg\, Berlin und sonst wo\, und über alles andere bei dem ein oder anderen Getränk. Kommen Sie gerne dazu! \nIm Don Robert\, am 13. August ab 19:00 Uhr.
URL:https://fdp-heidelberg.de/termin/liberaler-stammtisch-10/
LOCATION:Don Robert\, Alte Eppelheimer Straße 11\, Heidelberg\, Baden-Württemberg\, 69115
CATEGORIES:Stammtisch
ATTACH;FMTTYPE=image/jpeg:https://fdp-heidelberg.de/wp-content/uploads/2024/10/beer-3570298_1920.jpg
END:VEVENT
BEGIN:VEVENT
DTSTART;TZID=Europe/Berlin:20250818T193000
DTEND;TZID=Europe/Berlin:20250818T210000
DTSTAMP:20260421T214800
CREATED:20250811T100354Z
LAST-MODIFIED:20250811T100354Z
UID:12036-1755545400-1755550800@fdp-heidelberg.de
SUMMARY:Neue Grundsatzprogramm FDP: Bildung
DESCRIPTION:Zur Neuaufstellung der Partei mit einem neuen Grundsatzprogramm wollen wir auch unseren lokalen Mitgliedern die Möglichkeit geben beizutragen. Am Montag\, dem 18. August ab 19:30 im Breitspiel 17 laden wir Sie herzlich zu einem inhaltlichen Abend zum Thema Bildung ein!\nInhaltlicher Input wird von Dario Schramm kommen\, welcher im Bereich der digitalen Bildung aktiv ist. Kommen Sie gerne mit Ideen und Input zum Bereich Bildung vorbei!
URL:https://fdp-heidelberg.de/termin/neue-grundsatzprogramm-fdp-bildung/
LOCATION:Kreisgeschäftsstelle\, Im Breitspiel 17\, Heidelberg\, Baden-Württemberg\, 69126\, Deutschland
CATEGORIES:Arbeitskreise
ATTACH;FMTTYPE=image/png:https://fdp-heidelberg.de/wp-content/uploads/2014/07/20171111_StartseiteBildung-1.png
END:VEVENT
BEGIN:VEVENT
DTSTART;TZID=Europe/Berlin:20250827T193000
DTEND;TZID=Europe/Berlin:20250827T210000
DTSTAMP:20260421T214800
CREATED:20250821T090625Z
LAST-MODIFIED:20250821T090625Z
UID:12043-1756323000-1756328400@fdp-heidelberg.de
SUMMARY:Neues Grundsatzprogramm: Thema Migration
DESCRIPTION:Zur Neuaufstellung der Partei mit einem neuen Grundsatzprogramm wollen wir auch unseren lokalen Mitgliedern die Möglichkeit geben beizutragen. Am Mittwoch\, dem 27. August ab 19:30 laden wir Sie herzlich zu einem inhaltlichen Abend zum Thema Migration ein!\nSchalten Sie sich gerne unter folgendem Link dazu.
URL:https://fdp-heidelberg.de/termin/neues-grundsatzprogramm-thema-migration/
CATEGORIES:Arbeitskreise
ATTACH;FMTTYPE=image/jpeg:https://fdp-heidelberg.de/wp-content/uploads/2024/08/marvin-meyer-SYTO3xs06fU-unsplash.jpg
END:VEVENT
END:VCALENDAR