BEGIN:VCALENDAR
VERSION:2.0
PRODID:-//FDP Heidelberg - ECPv6.15.20//NONSGML v1.0//EN
CALSCALE:GREGORIAN
METHOD:PUBLISH
X-ORIGINAL-URL:https://fdp-heidelberg.de
X-WR-CALDESC:Veranstaltungen für FDP Heidelberg
REFRESH-INTERVAL;VALUE=DURATION:PT1H
X-Robots-Tag:noindex
X-PUBLISHED-TTL:PT1H
BEGIN:VTIMEZONE
TZID:Europe/Berlin
BEGIN:DAYLIGHT
TZOFFSETFROM:+0100
TZOFFSETTO:+0200
TZNAME:CEST
DTSTART:20240331T010000
END:DAYLIGHT
BEGIN:STANDARD
TZOFFSETFROM:+0200
TZOFFSETTO:+0100
TZNAME:CET
DTSTART:20241027T010000
END:STANDARD
BEGIN:DAYLIGHT
TZOFFSETFROM:+0100
TZOFFSETTO:+0200
TZNAME:CEST
DTSTART:20250330T010000
END:DAYLIGHT
BEGIN:STANDARD
TZOFFSETFROM:+0200
TZOFFSETTO:+0100
TZNAME:CET
DTSTART:20251026T010000
END:STANDARD
BEGIN:DAYLIGHT
TZOFFSETFROM:+0100
TZOFFSETTO:+0200
TZNAME:CEST
DTSTART:20260329T010000
END:DAYLIGHT
BEGIN:STANDARD
TZOFFSETFROM:+0200
TZOFFSETTO:+0100
TZNAME:CET
DTSTART:20261025T010000
END:STANDARD
END:VTIMEZONE
BEGIN:VEVENT
DTSTART;TZID=Europe/Berlin:20250603T190000
DTEND;TZID=Europe/Berlin:20250603T210000
DTSTAMP:20260422T004344
CREATED:20250519T090934Z
LAST-MODIFIED:20250519T090934Z
UID:11881-1748977200-1748984400@fdp-heidelberg.de
SUMMARY:Veranstaltungshinweis: Freiheit! Welche Freiheit?
DESCRIPTION:Der Liberalismus scheint sich in der Krise zu befinden. Freiheit und Selbstbestimmung\, sein emanzipatorisches Grundversprechen\, aber auch die liberale Demokratie stehen unter Druck. Das Erstarken autoritärer Kräfte\, einfache und verfangende Antworten populistischer Akteure auf die multiplen Krisen und Herausforderungen der Gegenwart stellen den Liberalismus\, aber auch die freiheitlich-demokratischen Prinzipien der liberalen Demokratie in Frage.\nKern und das Markenzeichen der Freiheit sind nach Ralf Dahrendorf Lebenschancen – Möglichkeiten\, die Menschen in einer Gesellschaft und einem demokratischen Gemeinwesen haben\, um ihr Leben in Freiheit\, Selbstbestimmung und sozialer Verantwortung zu gestalten: Chancen gewinnen\, Zukunft eröffnen. \nIst der Liberalismus noch zu retten? Ist sein Versprechen\, mehr Lebenschancen für immer mehr Menschen zu bieten\, zum Scheitern verurteilt? Brauchen wir mehr zukunftsfähige Generationengerechtigkeit\, mehr soziale Sicherheit und Gerechtigkeit und einen starken Sozialstaat statt der Lebenschancen der Freiheit? \nDiese und andere Fragen wollen wir mit Dr. Thomas Hertfelder\, Historiker und ehemaliger Geschäftsführer der Stiftung Bundespräsident-Theodor-Heuss-Haus\, Maren Diebel-Ebers\, stv. Vorsitzende des Deutschen Gewerkschaftsbunds Baden-Württemberg (DGB)\, und Dr. Christopher Gohl\, Geschäftsführer des Weltethos-Instituts Tübingen\, diskutieren – und mit Ihnen! \n  \nWeitere Informationen und Anmeldung unter: https://shop.freiheit.org/#!/Veranstaltung/8q8gi
URL:https://fdp-heidelberg.de/termin/veranstaltungshinweis-freiheit-welche-freiheit/
LOCATION:Neue Uni Universität Heidelberg\, Universitätsplatz\, Heidelberg\, 69117\, Germany
CATEGORIES:Externe Veranstaltung,Stiftungsveranstaltungen
ATTACH;FMTTYPE=image/jpeg:https://fdp-heidelberg.de/wp-content/uploads/2025/04/fnf.jpg
END:VEVENT
BEGIN:VEVENT
DTSTART;TZID=Europe/Berlin:20250611T190000
DTEND;TZID=Europe/Berlin:20250611T210000
DTSTAMP:20260422T004344
CREATED:20250611T074145Z
LAST-MODIFIED:20250611T074145Z
UID:11936-1749668400-1749675600@fdp-heidelberg.de
SUMMARY:Liberaler Stammtisch
DESCRIPTION:Am zweiten Mittwoch im Monat treffen sich die Heidelberger Liberalen zum liberalen Stammtisch. Über Politik\, in Heidelberg\, Berlin und sonst wo\, und über alles andere bei dem ein oder anderen Getränk. Kommen Sie gerne dazu! \nIm Don Robert\, am 11. Juni ab 19:00 Uhr.
URL:https://fdp-heidelberg.de/termin/liberaler-stammtisch-8/
LOCATION:Don Robert\, Alte Eppelheimer Straße 11\, Heidelberg\, Baden-Württemberg\, 69115
CATEGORIES:Stammtisch
ATTACH;FMTTYPE=image/jpeg:https://fdp-heidelberg.de/wp-content/uploads/2024/10/beer-3570298_1920.jpg
END:VEVENT
BEGIN:VEVENT
DTSTART;TZID=Europe/Berlin:20250622T140000
DTEND;TZID=Europe/Berlin:20250622T200000
DTSTAMP:20260422T004344
CREATED:20250322T115433Z
LAST-MODIFIED:20250322T115836Z
UID:11467-1750600800-1750622400@fdp-heidelberg.de
SUMMARY:Zwei-Bezirke-Fest der FDP Kurpfalz & Mittelbaden
DESCRIPTION:
URL:https://fdp-heidelberg.de/termin/zwei-bezirke-fest-der-fdp-kurpfalz-mittelbaden/
LOCATION:Pferchelgrillhütte Heidelberg\, Hirtenaue 56/3\, Heidelberg\, 69118
CATEGORIES:Interne Veranstaltungen
ATTACH;FMTTYPE=image/jpeg:https://fdp-heidelberg.de/wp-content/uploads/2025/03/67_bild_pferchelgrillhuette_01_by_hd.jpg
END:VEVENT
BEGIN:VEVENT
DTSTART;TZID=Europe/Berlin:20250628T090000
DTEND;TZID=Europe/Berlin:20250628T120000
DTSTAMP:20260422T004344
CREATED:20250512T134913Z
LAST-MODIFIED:20250512T134913Z
UID:11544-1751101200-1751112000@fdp-heidelberg.de
SUMMARY:Infostand "Haushalt der Stadt Heidelberg"
DESCRIPTION:Es werden unter anderem Informationen zum frisch beschlossenen Doppelhaushalt 2024/2025 bereitgestellt.
URL:https://fdp-heidelberg.de/termin/infostand-haushalt-3/
LOCATION:Am Kucheblech\, Ziegelhausen
CATEGORIES:Infostand/Wahlkampf
ATTACH;FMTTYPE=image/jpeg:https://fdp-heidelberg.de/wp-content/uploads/2017/11/money-2724235_1920.jpg
END:VEVENT
BEGIN:VEVENT
DTSTART;TZID=Europe/Berlin:20250628T100000
DTEND;TZID=Europe/Berlin:20250628T140000
DTSTAMP:20260422T004344
CREATED:20250522T071212Z
LAST-MODIFIED:20250522T071212Z
UID:11910-1751104800-1751119200@fdp-heidelberg.de
SUMMARY:Veranstaltungshinweis: Social Media in der politischen Kommunikation
DESCRIPTION:Soziale Medien sind aus unserem Alltag nicht mehr wegzudenken – und auch in der politischen Kommunikation spielen sie eine entscheidende Rolle. Soziale Netzwerke bieten politischen Akteuren die Möglichkeit\, in die direkte Kommunikation mit den Bürgerinnen und Bürgern zu treten und die eigenen Inhalte zielgruppengerecht zu vermitteln. \nWie kann man politische Inhalte und Werte so aufbereiten\, dass sie in den Sozialen Medien funktionieren? Was macht eine gute Social Media-Präsenz aus? Wie setzt man Kurzvideos zu politischen Zwecken ansprechend um? Worauf muss man bei der Content-Planung achten? \nIn diesem kompakten Training erfahren Sie praxisorientierte Tipps und Tricks für die erfolgreiche politische Kommunikation in den sozialen Medien und können sie in einer Praxisübung direkt umsetzen. \n  \nWeitere Informationen und Anmeldung unter: https://shop.freiheit.org/#!/Veranstaltung/27bnp
URL:https://fdp-heidelberg.de/termin/veranstaltungshinweis-freiheit-welche-freiheit-2/
LOCATION:NH Collection\, Bergheimer Strasse 91\, Heidelberg\, 69115\, Germany
CATEGORIES:Externe Veranstaltung,Stiftungsveranstaltungen
ATTACH;FMTTYPE=image/jpeg:https://fdp-heidelberg.de/wp-content/uploads/2025/04/fnf.jpg
END:VEVENT
END:VCALENDAR