BEGIN:VCALENDAR
VERSION:2.0
PRODID:-//FDP Heidelberg - ECPv6.15.20//NONSGML v1.0//EN
CALSCALE:GREGORIAN
METHOD:PUBLISH
X-WR-CALNAME:FDP Heidelberg
X-ORIGINAL-URL:https://fdp-heidelberg.de
X-WR-CALDESC:Veranstaltungen für FDP Heidelberg
REFRESH-INTERVAL;VALUE=DURATION:PT1H
X-Robots-Tag:noindex
X-PUBLISHED-TTL:PT1H
BEGIN:VTIMEZONE
TZID:Europe/Berlin
BEGIN:DAYLIGHT
TZOFFSETFROM:+0100
TZOFFSETTO:+0200
TZNAME:CEST
DTSTART:20240331T010000
END:DAYLIGHT
BEGIN:STANDARD
TZOFFSETFROM:+0200
TZOFFSETTO:+0100
TZNAME:CET
DTSTART:20241027T010000
END:STANDARD
BEGIN:DAYLIGHT
TZOFFSETFROM:+0100
TZOFFSETTO:+0200
TZNAME:CEST
DTSTART:20250330T010000
END:DAYLIGHT
BEGIN:STANDARD
TZOFFSETFROM:+0200
TZOFFSETTO:+0100
TZNAME:CET
DTSTART:20251026T010000
END:STANDARD
BEGIN:DAYLIGHT
TZOFFSETFROM:+0100
TZOFFSETTO:+0200
TZNAME:CEST
DTSTART:20260329T010000
END:DAYLIGHT
BEGIN:STANDARD
TZOFFSETFROM:+0200
TZOFFSETTO:+0100
TZNAME:CET
DTSTART:20261025T010000
END:STANDARD
END:VTIMEZONE
BEGIN:VEVENT
DTSTART;TZID=Europe/Berlin:20250513T193000
DTEND;TZID=Europe/Berlin:20250513T213000
DTSTAMP:20260422T020411
CREATED:20250322T115711Z
LAST-MODIFIED:20250423T092930Z
UID:11471-1747164600-1747171800@fdp-heidelberg.de
SUMMARY:FDP Kurpfalz - Bezirksparteitag
DESCRIPTION:Auf dem Bezirksparteitag wird vor allem die bezirksinterne Reihung für die zu besetzenden Positionen auf der Liste zur Landtagswahl festgelegt. Abstimmen dürfen lediglich die gewählten Delegierten\, der Besuch des Parteitags steht jedoch allen Mitgliedern des Bezirks frei.
URL:https://fdp-heidelberg.de/termin/fdp-kurpfalz-bezirksparteitag/
LOCATION:Hotel-Restaurant Ludwigstal\, Strahlenberger Straße 2\, Schriesheim\, 69198\, Germany
CATEGORIES:Parteitage
END:VEVENT
BEGIN:VEVENT
DTSTART;TZID=Europe/Berlin:20250514T190000
DTEND;TZID=Europe/Berlin:20250514T210000
DTSTAMP:20260422T020411
CREATED:20250512T130521Z
LAST-MODIFIED:20250512T130521Z
UID:11538-1747249200-1747256400@fdp-heidelberg.de
SUMMARY:Liberaler Stammtisch
DESCRIPTION:Am zweiten Mittwoch im Monat treffen sich die Heidelberger Liberalen zum liberalen Stammtisch. Über Politik\, in Heidelberg\, Berlin und sonst wo\, und über alles andere bei dem ein oder anderen Getränk. Kommen Sie gerne dazu! \nIm Don Robert\, am 14. Mai ab 19:00 Uhr.
URL:https://fdp-heidelberg.de/termin/liberaler-stammtisch-7/
LOCATION:Don Robert\, Alte Eppelheimer Straße 11\, Heidelberg\, Baden-Württemberg\, 69115
CATEGORIES:Stammtisch
ATTACH;FMTTYPE=image/jpeg:https://fdp-heidelberg.de/wp-content/uploads/2024/10/beer-3570298_1920.jpg
END:VEVENT
BEGIN:VEVENT
DTSTART;VALUE=DATE:20250516
DTEND;VALUE=DATE:20250518
DTSTAMP:20260422T020411
CREATED:20241027T211241Z
LAST-MODIFIED:20250322T115752Z
UID:11156-1747353600-1747526399@fdp-heidelberg.de
SUMMARY:FDP Bundesparteitag
DESCRIPTION:
URL:https://fdp-heidelberg.de/termin/fdp-bundesparteitag/
LOCATION:Berlin\, Berlin\, Germany
ATTACH;FMTTYPE=image/jpeg:https://fdp-heidelberg.de/wp-content/uploads/2024/10/DSCF8758.jpeg
END:VEVENT
BEGIN:VEVENT
DTSTART;TZID=Europe/Berlin:20250517T100000
DTEND;TZID=Europe/Berlin:20250517T170000
DTSTAMP:20260422T020411
CREATED:20250418T093107Z
LAST-MODIFIED:20250418T093107Z
UID:11514-1747476000-1747501200@fdp-heidelberg.de
SUMMARY:Friedrich-Naumann-Stiftung: Auftreten\, überzeugen\, gewinnen!
DESCRIPTION:Wer sich in der Politik oder im Ehrenamt engagiert\, muss komplexe Sachverhalte wirkungsvoll darstellen und andere mit seinen Argumenten überzeugen. Das gute Argument allein führt nicht immer zum Ziel. Machtverhältnisse\, psychologische Tricks und Manipulationstechniken entscheiden manchmal auch darüber\, welche Position sich durchsetzt.\nUm hier zu bestehen\, braucht es eine gute Rhetorik ebenso wie die richtige Kommunikationsstrategie und einen wirkungsvollen Auftritt. \nDie Friedrich-Naumann-Stiftung lädt ein. Anmeldung erforderlich. Weitere Informationen unter: https://shop.freiheit.org/#!/Veranstaltung/hx4su
URL:https://fdp-heidelberg.de/termin/friedrich-naumann-stiftung-auftreten-ueberzeugen-gewinnen/
LOCATION:Mannheim\, Mannheim\, 68163
CATEGORIES:Externe Veranstaltung,Stiftungsveranstaltungen
ATTACH;FMTTYPE=image/jpeg:https://fdp-heidelberg.de/wp-content/uploads/2025/04/fnf.jpg
END:VEVENT
BEGIN:VEVENT
DTSTART;TZID=Europe/Berlin:20250531T090000
DTEND;TZID=Europe/Berlin:20250531T120000
DTSTAMP:20260422T020411
CREATED:20250512T133403Z
LAST-MODIFIED:20250512T133403Z
UID:11541-1748682000-1748692800@fdp-heidelberg.de
SUMMARY:Infostand "Haushalt der Stadt Heidelberg"
DESCRIPTION:Es werden unter anderem Informationen zum Doppelhaushalt 2024/2025 bereitgestellt und es gibt die Möglichkeit eigene Vorschläge und Fragen an die Mitglieder der FDP im Gemeinderat der Stadt Heidelberg weiterzuleiten\, zumal in der darauf folgenden Woche der Haushalt vom Gemeinderat beschlossen werden wird. \nWir stehen auch für Gespräche über den Bundesparteitag der FDP am 16./17. Mai zur Verfügung.
URL:https://fdp-heidelberg.de/termin/infostand-haushalt/
LOCATION:Marktplatz\, Neuenheim
CATEGORIES:Infostand/Wahlkampf
ATTACH;FMTTYPE=image/jpeg:https://fdp-heidelberg.de/wp-content/uploads/2017/11/money-2724235_1920.jpg
END:VEVENT
END:VCALENDAR