BEGIN:VCALENDAR
VERSION:2.0
PRODID:-//FDP Heidelberg - ECPv6.15.20//NONSGML v1.0//EN
CALSCALE:GREGORIAN
METHOD:PUBLISH
X-ORIGINAL-URL:https://fdp-heidelberg.de
X-WR-CALDESC:Veranstaltungen für FDP Heidelberg
REFRESH-INTERVAL;VALUE=DURATION:PT1H
X-Robots-Tag:noindex
X-PUBLISHED-TTL:PT1H
BEGIN:VTIMEZONE
TZID:Europe/Berlin
BEGIN:DAYLIGHT
TZOFFSETFROM:+0100
TZOFFSETTO:+0200
TZNAME:CEST
DTSTART:20240331T010000
END:DAYLIGHT
BEGIN:STANDARD
TZOFFSETFROM:+0200
TZOFFSETTO:+0100
TZNAME:CET
DTSTART:20241027T010000
END:STANDARD
BEGIN:DAYLIGHT
TZOFFSETFROM:+0100
TZOFFSETTO:+0200
TZNAME:CEST
DTSTART:20250330T010000
END:DAYLIGHT
BEGIN:STANDARD
TZOFFSETFROM:+0200
TZOFFSETTO:+0100
TZNAME:CET
DTSTART:20251026T010000
END:STANDARD
BEGIN:DAYLIGHT
TZOFFSETFROM:+0100
TZOFFSETTO:+0200
TZNAME:CEST
DTSTART:20260329T010000
END:DAYLIGHT
BEGIN:STANDARD
TZOFFSETFROM:+0200
TZOFFSETTO:+0100
TZNAME:CET
DTSTART:20261025T010000
END:STANDARD
END:VTIMEZONE
BEGIN:VEVENT
DTSTART;TZID=Europe/Berlin:20250310T190000
DTEND;TZID=Europe/Berlin:20250310T213000
DTSTAMP:20260422T045624
CREATED:20241016T124704Z
LAST-MODIFIED:20250129T104907Z
UID:11138-1741633200-1741642200@fdp-heidelberg.de
SUMMARY:Treffen der FDP Bezirksbeiräte zum Haushalt
DESCRIPTION:Sehr geehrte Damen und Herren\, liebe Bezirksbeiräte und Bezirksbeirätinnen\, \nwas für Auswirkungen hat die Haushaltslage auf Ihre Stadtteile? Welche Projekte stehen auf der Kippe? Darüber wird die FDP – Fraktion am 10. März mit Ihnen allen reden. Im Breitspiel 17\, in Rohrbach Süd\, ab 19:00 Uhr. Wie immer ist für Essen und Getränke gesorgt. Kommen Sie gerne vorbei!
URL:https://fdp-heidelberg.de/termin/treffen-der-fdp-bezirksbeiraete-zum-haushalt/
LOCATION:Kreisgeschäftsstelle\, Im Breitspiel 17\, Heidelberg\, Baden-Württemberg\, 69126\, Deutschland
CATEGORIES:Interne Veranstaltungen
ATTACH;FMTTYPE=image/jpeg:https://fdp-heidelberg.de/wp-content/uploads/2024/08/marvin-meyer-SYTO3xs06fU-unsplash.jpg
END:VEVENT
BEGIN:VEVENT
DTSTART;TZID=Europe/Berlin:20250312T190000
DTEND;TZID=Europe/Berlin:20250312T210000
DTSTAMP:20260422T045624
CREATED:20250129T094048Z
LAST-MODIFIED:20250129T094048Z
UID:11343-1741806000-1741813200@fdp-heidelberg.de
SUMMARY:Liberaler Stammtisch
DESCRIPTION:Am zweiten Mittwoch im Monat treffen sich die Heidelberger Liberalen zum liberalen Stammtisch. Über Politik\, in Heidelberg\, Berlin und sonst wo\, und über alles andere bei dem ein oder anderen Getränk. Kommen Sie gerne dazu! \nIm Don Robert\, am 12. März ab 19:00 Uhr.
URL:https://fdp-heidelberg.de/termin/liberaler-stammtisch-6-2-2-2/
LOCATION:Don Robert\, Alte Eppelheimer Straße 11\, Heidelberg\, Baden-Württemberg\, 69115
CATEGORIES:Stammtisch
ATTACH;FMTTYPE=image/jpeg:https://fdp-heidelberg.de/wp-content/uploads/2024/10/beer-3570298_1920.jpg
END:VEVENT
BEGIN:VEVENT
DTSTART;TZID=Europe/Berlin:20250317T190000
DTEND;TZID=Europe/Berlin:20250317T210000
DTSTAMP:20260422T045624
CREATED:20250224T162958Z
LAST-MODIFIED:20250224T194942Z
UID:11433-1742238000-1742245200@fdp-heidelberg.de
SUMMARY:Modern\, bürgernah und digital - Verwaltung einfach machen! mit Daniel Karrais\, MdL\, Sprecher für Digitalisierung\, Klimaschutz und Glücksspiel
DESCRIPTION:Pensionierungswelle\, Aufgabenflut und Aktenberge – Unsere Verwaltung steht seit Jahren vor enormen Herausforderungen!\nNach einer aktuellen Umfrage des Deutschen Beamtenbundes (dbb) glauben 70% der Bürgerinnen und Bürger\, dass der Staat mit seinen Aufgaben überfordert ist – ein neuer Tiefpunkt. Und Unternehmen entscheiden sich aufgrund ausufernder Bürokratie und mangelhafter Digitalisierung gegen eine Ansiedlung in Baden-Württemberg. Dies alles sollte ein klares Warnsignal verstanden werden: Eine rückständige Verwaltung ist eine Gefahr für einen modernen\, funktionsfähigen Staat und einen wettbewerbsfähigen Standort. \nDiskutieren Sie mit Daniel Karrais (digitalpolitischer Sprecher der FDP-Landtagsfraktion) über folgende Themen:\n– Wie kann die Digitalisierung bei uns im Land schneller und besser vorangetrieben werden?\n– Wie kann die Öffentliche Verwaltung durch Digitalisierung effizienter und effektiver werden?\n– Wie können Bürgerinnen und Bürger\, Unternehmen\, aber auch die Verwaltung selbst von der Digitalisierung profitieren? \nZur Person:\nDaniel Karrais ist seit 2018 Mitglied des Landtags von Baden- Württemberg und vertritt den Wahlkreis 53 Rottweil. Zuvor war der studierte Maschinebauingenieur als Manager in der Unternehmensentwicklung bei NetCom BW GmbH tätig.\nEr ist Vorsitzender des Ausschusses für Umwelt\, Klima und Energiewirtschaft. Für die FDP/DVP-Fraktion im Landtag ist Daniel Karrais Sprecher für Digitalisierung und Klimaschutz. Zudem ist er Mitglied in der Enquêtekommission „Krisenfeste Gesellschaft“ sowie stellvertretendes Mitglied des Untersuchungsausschusses „IdP & Beförderungspraxis“.
URL:https://fdp-heidelberg.de/termin/modern-buergernah-und-digital-verwaltung-einfach-machen-mit-daniel-karrais-mdl-sprecher-fuer-digitalisierung-klimaschutz-und-gluecksspiel/
LOCATION:B3 – Bürgerhaus Bahnstadt\, Gadamerplatz 1\, Heidelberg\, 69115\, Germany
CATEGORIES:MdB-Veranstaltungen,Referentenveranstaltungen
ATTACH;FMTTYPE=image/png:https://fdp-heidelberg.de/wp-content/uploads/2025/02/karrais1.png
END:VEVENT
BEGIN:VEVENT
DTSTART;TZID=Europe/Berlin:20250324T190000
DTEND;TZID=Europe/Berlin:20250324T220000
DTSTAMP:20260422T045624
CREATED:20241007T184633Z
LAST-MODIFIED:20250314T091928Z
UID:11103-1742842800-1742853600@fdp-heidelberg.de
SUMMARY:Jahreshauptversammlung FDP Heidelberg
DESCRIPTION:Am 24. März 2025 beruft die FDP Heidelberg ihre Jahreshauptversammlung ein. Vorstandswahlen für die Jahre 2025/2026 und vieles weitere steht an.
URL:https://fdp-heidelberg.de/termin/jahreshauptversammlung-fdp-heidelberg/
LOCATION:Zum Achter Heidelberg\, Neuenheimer Landstraße 3A\, Heidelberg\, 69120\, Deutschland
CATEGORIES:Interne Veranstaltungen
ATTACH;FMTTYPE=image/png:https://fdp-heidelberg.de/wp-content/uploads/2025/02/KVHD_Header.png
END:VEVENT
BEGIN:VEVENT
DTSTART;TZID=Europe/Berlin:20250329T091500
DTEND;TZID=Europe/Berlin:20250329T121500
DTSTAMP:20260422T045624
CREATED:20250319T101548Z
LAST-MODIFIED:20250319T101548Z
UID:11462-1743239700-1743250500@fdp-heidelberg.de
SUMMARY:Infostand "Haushalt der Stadt Heidelberg"
DESCRIPTION:Es werden Informationen zum Doppelhaushalt 2024/2025 bereitgestellt und es gibt die Möglichkeit eigene Vorschläge und Fragen an die Mitglieder der FDP im Gemeinderat der Stadt Heidelberg weiterzuleiten.
URL:https://fdp-heidelberg.de/termin/wahlkampfstand-in-neuenheim-2-2/
LOCATION:Marktplatz\, Neuenheim
CATEGORIES:Infostand/Wahlkampf
ATTACH;FMTTYPE=image/jpeg:https://fdp-heidelberg.de/wp-content/uploads/2017/11/money-2724235_1920.jpg
END:VEVENT
END:VCALENDAR