BEGIN:VCALENDAR
VERSION:2.0
PRODID:-//FDP Heidelberg - ECPv6.15.20//NONSGML v1.0//EN
CALSCALE:GREGORIAN
METHOD:PUBLISH
X-WR-CALNAME:FDP Heidelberg
X-ORIGINAL-URL:https://fdp-heidelberg.de
X-WR-CALDESC:Veranstaltungen für FDP Heidelberg
REFRESH-INTERVAL;VALUE=DURATION:PT1H
X-Robots-Tag:noindex
X-PUBLISHED-TTL:PT1H
BEGIN:VTIMEZONE
TZID:Europe/Berlin
BEGIN:DAYLIGHT
TZOFFSETFROM:+0100
TZOFFSETTO:+0200
TZNAME:CEST
DTSTART:20240331T010000
END:DAYLIGHT
BEGIN:STANDARD
TZOFFSETFROM:+0200
TZOFFSETTO:+0100
TZNAME:CET
DTSTART:20241027T010000
END:STANDARD
BEGIN:DAYLIGHT
TZOFFSETFROM:+0100
TZOFFSETTO:+0200
TZNAME:CEST
DTSTART:20250330T010000
END:DAYLIGHT
BEGIN:STANDARD
TZOFFSETFROM:+0200
TZOFFSETTO:+0100
TZNAME:CET
DTSTART:20251026T010000
END:STANDARD
BEGIN:DAYLIGHT
TZOFFSETFROM:+0100
TZOFFSETTO:+0200
TZNAME:CEST
DTSTART:20260329T010000
END:DAYLIGHT
BEGIN:STANDARD
TZOFFSETFROM:+0200
TZOFFSETTO:+0100
TZNAME:CET
DTSTART:20261025T010000
END:STANDARD
END:VTIMEZONE
BEGIN:VEVENT
DTSTART;TZID=Europe/Berlin:20250201T090000
DTEND;TZID=Europe/Berlin:20250201T120000
DTSTAMP:20260422T062556
CREATED:20250129T095802Z
LAST-MODIFIED:20250129T095802Z
UID:11358-1738400400-1738411200@fdp-heidelberg.de
SUMMARY:Wahlkampfstand in Schlierbach
DESCRIPTION:Der Wahlkampf zur Bundestagswahl geht in die heiße Phase. Besuchen Sie uns\, informieren Sie sich\, oder besser noch\, werden Sie selbst aktiv in unserem Wahlkampfteam und treten Sie ein für eine starke FDP in der kommenden Legislaturperiode.
URL:https://fdp-heidelberg.de/termin/wahlkampfstand-in-schlierbach/
LOCATION:Bahnhof Schlierbach/Ziegelhausen\, Schlierbach
CATEGORIES:Infostand/Wahlkampf
ATTACH;FMTTYPE=image/jpeg:https://fdp-heidelberg.de/wp-content/uploads/2025/01/wahlzettel.jpg
END:VEVENT
BEGIN:VEVENT
DTSTART;TZID=Europe/Berlin:20250201T140000
DTEND;TZID=Europe/Berlin:20250201T180000
DTSTAMP:20260422T062556
CREATED:20250129T095919Z
LAST-MODIFIED:20250129T095919Z
UID:11362-1738418400-1738432800@fdp-heidelberg.de
SUMMARY:Wahlkampfstand am Bismarckplatz
DESCRIPTION:Der Wahlkampf zur Bundestagswahl geht in die heiße Phase. Besuchen Sie uns\, informieren Sie sich\, oder besser noch\, werden Sie selbst aktiv in unserem Wahlkampfteam und treten Sie ein für eine starke FDP in der kommenden Legislaturperiode.
URL:https://fdp-heidelberg.de/termin/wahlkampfstand-am-bismarckplatz/
LOCATION:Bismarckplatz Heidelberg
CATEGORIES:Infostand/Wahlkampf
ATTACH;FMTTYPE=image/jpeg:https://fdp-heidelberg.de/wp-content/uploads/2025/01/wahlzettel.jpg
END:VEVENT
BEGIN:VEVENT
DTSTART;TZID=Europe/Berlin:20250203T193000
DTEND;TZID=Europe/Berlin:20250203T220000
DTSTAMP:20260422T062556
CREATED:20250129T104149Z
LAST-MODIFIED:20250129T105039Z
UID:11419-1738611000-1738620000@fdp-heidelberg.de
SUMMARY:Kreisvorstandssitzung FDP Heidelberg
DESCRIPTION:Unsere nächste mitgliederoffene Kreisvorstandssitzung findet wie üblich in der Geschäftsstelle der FDP Heidelberg statt.\nBei Gesprächsbedarf zu speziellen Themen bitten wir um vorherige Nachricht zur Ergänzung der Tagesordnung.
URL:https://fdp-heidelberg.de/termin/kreisvorstandssitzung-fdp-heidelberg-3/
LOCATION:Kreisgeschäftsstelle\, Im Breitspiel 17\, Heidelberg\, Baden-Württemberg\, 69126\, Deutschland
CATEGORIES:Interne Veranstaltungen,Vorstandssitzungen
ATTACH;FMTTYPE=image/png:https://fdp-heidelberg.de/wp-content/uploads/2025/01/FDP-Kommunalwahlen_-Facebook-Veranstaltung-mit-Icon-250129112842.png
END:VEVENT
BEGIN:VEVENT
DTSTART;TZID=Europe/Berlin:20250205T110000
DTEND;TZID=Europe/Berlin:20250205T140000
DTSTAMP:20260422T062556
CREATED:20250129T100024Z
LAST-MODIFIED:20250129T100024Z
UID:11365-1738753200-1738764000@fdp-heidelberg.de
SUMMARY:Wahlkampfstand am DAI
DESCRIPTION:Der Wahlkampf zur Bundestagswahl geht in die heiße Phase. Besuchen Sie uns\, informieren Sie sich\, oder besser noch\, werden Sie selbst aktiv in unserem Wahlkampfteam und treten Sie ein für eine starke FDP in der kommenden Legislaturperiode.
URL:https://fdp-heidelberg.de/termin/wahlkampfstand-am-dai/
LOCATION:DAI Heidelberg\, Sofienstraße 12\, Heidelberg\, 69117
CATEGORIES:Infostand/Wahlkampf
ATTACH;FMTTYPE=image/jpeg:https://fdp-heidelberg.de/wp-content/uploads/2025/01/wahlzettel.jpg
END:VEVENT
BEGIN:VEVENT
DTSTART;TZID=Europe/Berlin:20250205T113000
DTEND;TZID=Europe/Berlin:20250205T140000
DTSTAMP:20260422T062556
CREATED:20250110T092340Z
LAST-MODIFIED:20250115T171712Z
UID:11268-1738755000-1738764000@fdp-heidelberg.de
SUMMARY:Christian Lindner zu Gast in Heidelberg
DESCRIPTION:Wir freuen uns am 05.02.2025 unseren Bundesvorsitzenden Christian Lindner in Heidelberg begrüßen zu dürfen.\nHier können Sie sich anmelden.
URL:https://fdp-heidelberg.de/termin/christian-lindner-zu-gast-in-heidelberg/
LOCATION:DAI Heidelberg\, Sofienstraße 12\, Heidelberg\, 69117
CATEGORIES:Referentenveranstaltungen
ATTACH;FMTTYPE=image/jpeg:https://fdp-heidelberg.de/wp-content/uploads/2025/01/20241209_KP_Banner_Twitter.jpg
END:VEVENT
BEGIN:VEVENT
DTSTART;TZID=Europe/Berlin:20250207T150000
DTEND;TZID=Europe/Berlin:20250207T180000
DTSTAMP:20260422T062556
CREATED:20250129T100309Z
LAST-MODIFIED:20250129T100309Z
UID:11368-1738940400-1738951200@fdp-heidelberg.de
SUMMARY:Wahlkampfstand in der Bahnstadt
DESCRIPTION:Der Wahlkampf zur Bundestagswahl geht in die heiße Phase. Besuchen Sie uns\, informieren Sie sich\, oder besser noch\, werden Sie selbst aktiv in unserem Wahlkampfteam und treten Sie ein für eine starke FDP in der kommenden Legislaturperiode.
URL:https://fdp-heidelberg.de/termin/wahlkampfstand-in-der-bahnstadt/
LOCATION:Gadamerplatz\, Bahnstadt
CATEGORIES:Infostand/Wahlkampf
ATTACH;FMTTYPE=image/jpeg:https://fdp-heidelberg.de/wp-content/uploads/2025/01/wahlzettel.jpg
END:VEVENT
BEGIN:VEVENT
DTSTART;TZID=Europe/Berlin:20250208T090000
DTEND;TZID=Europe/Berlin:20250208T120000
DTSTAMP:20260422T062556
CREATED:20250129T100452Z
LAST-MODIFIED:20250129T100452Z
UID:11372-1739005200-1739016000@fdp-heidelberg.de
SUMMARY:Wahlkampfstand in Ziegelhausen
DESCRIPTION:Der Wahlkampf zur Bundestagswahl geht in die heiße Phase. Besuchen Sie uns\, informieren Sie sich\, oder besser noch\, werden Sie selbst aktiv in unserem Wahlkampfteam und treten Sie ein für eine starke FDP in der kommenden Legislaturperiode.
URL:https://fdp-heidelberg.de/termin/wahlkampfstand-in-ziegelhausen/
LOCATION:Am Kucheblech\, Ziegelhausen
CATEGORIES:Infostand/Wahlkampf
ATTACH;FMTTYPE=image/jpeg:https://fdp-heidelberg.de/wp-content/uploads/2025/01/wahlzettel.jpg
END:VEVENT
BEGIN:VEVENT
DTSTART;TZID=Europe/Berlin:20250208T123000
DTEND;TZID=Europe/Berlin:20250208T160000
DTSTAMP:20260422T062556
CREATED:20250129T100539Z
LAST-MODIFIED:20250129T100539Z
UID:11376-1739017800-1739030400@fdp-heidelberg.de
SUMMARY:Wahlkampfstand am Bismarckplatz
DESCRIPTION:Der Wahlkampf zur Bundestagswahl geht in die heiße Phase. Besuchen Sie uns\, informieren Sie sich\, oder besser noch\, werden Sie selbst aktiv in unserem Wahlkampfteam und treten Sie ein für eine starke FDP in der kommenden Legislaturperiode.
URL:https://fdp-heidelberg.de/termin/wahlkampfstand-am-bismarckplatz-2/
LOCATION:Bismarckplatz Heidelberg
CATEGORIES:Infostand/Wahlkampf
ATTACH;FMTTYPE=image/jpeg:https://fdp-heidelberg.de/wp-content/uploads/2025/01/wahlzettel.jpg
END:VEVENT
BEGIN:VEVENT
DTSTART;TZID=Europe/Berlin:20250212T190000
DTEND;TZID=Europe/Berlin:20250212T210000
DTSTAMP:20260422T062556
CREATED:20250129T094005Z
LAST-MODIFIED:20250129T094005Z
UID:11340-1739386800-1739394000@fdp-heidelberg.de
SUMMARY:Liberaler Stammtisch
DESCRIPTION:Am zweiten Mittwoch im Monat treffen sich die Heidelberger Liberalen zum liberalen Stammtisch. Über Politik\, in Heidelberg\, Berlin und sonst wo\, und über alles andere bei dem ein oder anderen Getränk. Kommen Sie gerne dazu! \nIm Don Robert\, am 12. Februar ab 19:00 Uhr.
URL:https://fdp-heidelberg.de/termin/liberaler-stammtisch-6-2-2/
LOCATION:Don Robert\, Alte Eppelheimer Straße 11\, Heidelberg\, Baden-Württemberg\, 69115
CATEGORIES:Stammtisch
ATTACH;FMTTYPE=image/jpeg:https://fdp-heidelberg.de/wp-content/uploads/2024/10/beer-3570298_1920.jpg
END:VEVENT
BEGIN:VEVENT
DTSTART;TZID=Europe/Berlin:20250214T140000
DTEND;TZID=Europe/Berlin:20250214T170000
DTSTAMP:20260422T062556
CREATED:20250129T100742Z
LAST-MODIFIED:20250129T100742Z
UID:11379-1739541600-1739552400@fdp-heidelberg.de
SUMMARY:Wahlkampfstand in der Weststadt
DESCRIPTION:Der Wahlkampf zur Bundestagswahl geht in die heiße Phase. Besuchen Sie uns\, informieren Sie sich\, oder besser noch\, werden Sie selbst aktiv in unserem Wahlkampfteam und treten Sie ein für eine starke FDP in der kommenden Legislaturperiode.
URL:https://fdp-heidelberg.de/termin/wahlkampfstand-in-der-weststadt/
LOCATION:S-Bahnhof Weststadt/Südstadt
CATEGORIES:Infostand/Wahlkampf
ATTACH;FMTTYPE=image/jpeg:https://fdp-heidelberg.de/wp-content/uploads/2025/01/wahlzettel.jpg
END:VEVENT
BEGIN:VEVENT
DTSTART;TZID=Europe/Berlin:20250215T090000
DTEND;TZID=Europe/Berlin:20250215T120000
DTSTAMP:20260422T062556
CREATED:20250129T101025Z
LAST-MODIFIED:20250129T101025Z
UID:11383-1739610000-1739620800@fdp-heidelberg.de
SUMMARY:Wahlkampfstand in Handschuhsheim
DESCRIPTION:Der Wahlkampf zur Bundestagswahl geht in die heiße Phase. Besuchen Sie uns\, informieren Sie sich\, oder besser noch\, werden Sie selbst aktiv in unserem Wahlkampfteam und treten Sie ein für eine starke FDP in der kommenden Legislaturperiode.
URL:https://fdp-heidelberg.de/termin/wahlkampfstand-in-handschuhsheim/
LOCATION:Tiefburg\, Handschuhsheim
CATEGORIES:Infostand/Wahlkampf
ATTACH;FMTTYPE=image/jpeg:https://fdp-heidelberg.de/wp-content/uploads/2025/01/wahlzettel.jpg
END:VEVENT
BEGIN:VEVENT
DTSTART;TZID=Europe/Berlin:20250215T090000
DTEND;TZID=Europe/Berlin:20250215T120000
DTSTAMP:20260422T062556
CREATED:20250129T101209Z
LAST-MODIFIED:20250129T101209Z
UID:11387-1739610000-1739620800@fdp-heidelberg.de
SUMMARY:Wahlkampfstand in Neuenheim
DESCRIPTION:Der Wahlkampf zur Bundestagswahl geht in die heiße Phase. Besuchen Sie uns\, informieren Sie sich\, oder besser noch\, werden Sie selbst aktiv in unserem Wahlkampfteam und treten Sie ein für eine starke FDP in der kommenden Legislaturperiode.
URL:https://fdp-heidelberg.de/termin/wahlkampfstand-in-neuenheim/
LOCATION:Marktplatz\, Neuenheim
CATEGORIES:Infostand/Wahlkampf
ATTACH;FMTTYPE=image/jpeg:https://fdp-heidelberg.de/wp-content/uploads/2025/01/wahlzettel.jpg
END:VEVENT
BEGIN:VEVENT
DTSTART;TZID=Europe/Berlin:20250215T200000
DTEND;TZID=Europe/Berlin:20250216T000000
DTSTAMP:20260422T062556
CREATED:20250129T101327Z
LAST-MODIFIED:20250129T101327Z
UID:11391-1739649600-1739664000@fdp-heidelberg.de
SUMMARY:Wahlkampfstand in der Altstadt
DESCRIPTION:Der Wahlkampf zur Bundestagswahl geht in die heiße Phase. Besuchen Sie uns\, informieren Sie sich\, oder besser noch\, werden Sie selbst aktiv in unserem Wahlkampfteam und treten Sie ein für eine starke FDP in der kommenden Legislaturperiode.
URL:https://fdp-heidelberg.de/termin/wahlkampfstand-in-der-altstadt-2/
LOCATION:Heumarkt\, Altstadt
CATEGORIES:Infostand/Wahlkampf
ATTACH;FMTTYPE=image/jpeg:https://fdp-heidelberg.de/wp-content/uploads/2025/01/wahlzettel.jpg
END:VEVENT
BEGIN:VEVENT
DTSTART;TZID=Europe/Berlin:20250220T150000
DTEND;TZID=Europe/Berlin:20250220T180000
DTSTAMP:20260422T062556
CREATED:20250129T101435Z
LAST-MODIFIED:20250129T101435Z
UID:11395-1740063600-1740074400@fdp-heidelberg.de
SUMMARY:Wahlkampfstand in der Altstadt
DESCRIPTION:Der Wahlkampf zur Bundestagswahl geht in die heiße Phase. Besuchen Sie uns\, informieren Sie sich\, oder besser noch\, werden Sie selbst aktiv in unserem Wahlkampfteam und treten Sie ein für eine starke FDP in der kommenden Legislaturperiode.
URL:https://fdp-heidelberg.de/termin/wahlkampfstand-in-der-altstadt-3/
LOCATION:Friedrich-Ebert-Platz\, Altstadt
CATEGORIES:Infostand/Wahlkampf
ATTACH;FMTTYPE=image/jpeg:https://fdp-heidelberg.de/wp-content/uploads/2025/01/wahlzettel.jpg
END:VEVENT
BEGIN:VEVENT
DTSTART;TZID=Europe/Berlin:20250221T110000
DTEND;TZID=Europe/Berlin:20250221T140000
DTSTAMP:20260422T062556
CREATED:20250129T101629Z
LAST-MODIFIED:20250129T101629Z
UID:11398-1740135600-1740146400@fdp-heidelberg.de
SUMMARY:Wahlkampfstand im Boxberg
DESCRIPTION:Der Wahlkampf zur Bundestagswahl geht in die heiße Phase. Besuchen Sie uns\, informieren Sie sich\, oder besser noch\, werden Sie selbst aktiv in unserem Wahlkampfteam und treten Sie ein für eine starke FDP in der kommenden Legislaturperiode.
URL:https://fdp-heidelberg.de/termin/wahlkampfstand-im-boxberg/
LOCATION:Iduna-Center\, Boxberg
CATEGORIES:Infostand/Wahlkampf
ATTACH;FMTTYPE=image/jpeg:https://fdp-heidelberg.de/wp-content/uploads/2025/01/wahlzettel.jpg
END:VEVENT
BEGIN:VEVENT
DTSTART;TZID=Europe/Berlin:20250221T150000
DTEND;TZID=Europe/Berlin:20250221T180000
DTSTAMP:20260422T062556
CREATED:20250129T101710Z
LAST-MODIFIED:20250129T101710Z
UID:11402-1740150000-1740160800@fdp-heidelberg.de
SUMMARY:Wahlkampfstand in der Bahnstadt
DESCRIPTION:Der Wahlkampf zur Bundestagswahl geht in die heiße Phase. Besuchen Sie uns\, informieren Sie sich\, oder besser noch\, werden Sie selbst aktiv in unserem Wahlkampfteam und treten Sie ein für eine starke FDP in der kommenden Legislaturperiode.
URL:https://fdp-heidelberg.de/termin/wahlkampfstand-in-der-bahnstadt-2/
LOCATION:Gadamerplatz\, Bahnstadt
CATEGORIES:Infostand/Wahlkampf
ATTACH;FMTTYPE=image/jpeg:https://fdp-heidelberg.de/wp-content/uploads/2025/01/wahlzettel.jpg
END:VEVENT
BEGIN:VEVENT
DTSTART;TZID=Europe/Berlin:20250222T090000
DTEND;TZID=Europe/Berlin:20250222T120000
DTSTAMP:20260422T062556
CREATED:20250129T101755Z
LAST-MODIFIED:20250129T101755Z
UID:11405-1740214800-1740225600@fdp-heidelberg.de
SUMMARY:Wahlkampfstand in Neuenheim
DESCRIPTION:Der Wahlkampf zur Bundestagswahl geht in die heiße Phase. Besuchen Sie uns\, informieren Sie sich\, oder besser noch\, werden Sie selbst aktiv in unserem Wahlkampfteam und treten Sie ein für eine starke FDP in der kommenden Legislaturperiode.
URL:https://fdp-heidelberg.de/termin/wahlkampfstand-in-neuenheim-2/
LOCATION:Marktplatz\, Neuenheim
CATEGORIES:Infostand/Wahlkampf
ATTACH;FMTTYPE=image/jpeg:https://fdp-heidelberg.de/wp-content/uploads/2025/01/wahlzettel.jpg
END:VEVENT
BEGIN:VEVENT
DTSTART;TZID=Europe/Berlin:20250222T090000
DTEND;TZID=Europe/Berlin:20250222T190000
DTSTAMP:20260422T062556
CREATED:20250129T101854Z
LAST-MODIFIED:20250129T101854Z
UID:11408-1740214800-1740250800@fdp-heidelberg.de
SUMMARY:Wahlkampfstand am Bismarckplatz
DESCRIPTION:Der Wahlkampf zur Bundestagswahl geht in die heiße Phase. Besuchen Sie uns\, informieren Sie sich\, oder besser noch\, werden Sie selbst aktiv in unserem Wahlkampfteam und treten Sie ein für eine starke FDP in der kommenden Legislaturperiode.
URL:https://fdp-heidelberg.de/termin/wahlkampfstand-am-bismarckplatz-3/
LOCATION:Bismarckplatz Heidelberg
CATEGORIES:Infostand/Wahlkampf
ATTACH;FMTTYPE=image/jpeg:https://fdp-heidelberg.de/wp-content/uploads/2025/01/wahlzettel.jpg
END:VEVENT
BEGIN:VEVENT
DTSTART;TZID=Europe/Berlin:20250222T190000
DTEND;TZID=Europe/Berlin:20250223T000000
DTSTAMP:20260422T062556
CREATED:20250129T102102Z
LAST-MODIFIED:20250129T102102Z
UID:11411-1740250800-1740268800@fdp-heidelberg.de
SUMMARY:Wahlkampfstand am Uniplatz
DESCRIPTION:Der Wahlkampf zur Bundestagswahl geht in die heiße Phase. Besuchen Sie uns\, informieren Sie sich\, oder besser noch\, werden Sie selbst aktiv in unserem Wahlkampfteam und treten Sie ein für eine starke FDP in der kommenden Legislaturperiode.
URL:https://fdp-heidelberg.de/termin/wahlkampfstand-am-uniplatz/
LOCATION:Universitätsplatz\, Altstadt
CATEGORIES:Infostand/Wahlkampf
ATTACH;FMTTYPE=image/jpeg:https://fdp-heidelberg.de/wp-content/uploads/2025/01/wahlzettel.jpg
END:VEVENT
BEGIN:VEVENT
DTSTART;TZID=Europe/Berlin:20250224T193000
DTEND;TZID=Europe/Berlin:20250224T220000
DTSTAMP:20260422T062556
CREATED:20250129T103200Z
LAST-MODIFIED:20250129T104711Z
UID:11415-1740425400-1740434400@fdp-heidelberg.de
SUMMARY:Kreisvorstandssitzung FDP Heidelberg
DESCRIPTION:Unsere nächste mitgliederoffene Kreisvorstandssitzung findet wie üblich in der Geschäftsstelle der FDP Heidelberg statt.\nBei Gesprächsbedarf zu speziellen Themen bitten wir um vorherige Nachricht zur Ergänzung der Tagesordnung.
URL:https://fdp-heidelberg.de/termin/kreisvorstandssitzung-fdp-heidelberg-2/
LOCATION:Kreisgeschäftsstelle\, Im Breitspiel 17\, Heidelberg\, Baden-Württemberg\, 69126\, Deutschland
CATEGORIES:Interne Veranstaltungen,Vorstandssitzungen
ATTACH;FMTTYPE=image/png:https://fdp-heidelberg.de/wp-content/uploads/2025/01/FDP-Kommunalwahlen_-Facebook-Veranstaltung-mit-Icon-250129112842.png
END:VEVENT
END:VCALENDAR