BEGIN:VCALENDAR
VERSION:2.0
PRODID:-//FDP Heidelberg - ECPv6.15.20//NONSGML v1.0//EN
CALSCALE:GREGORIAN
METHOD:PUBLISH
X-WR-CALNAME:FDP Heidelberg
X-ORIGINAL-URL:https://fdp-heidelberg.de
X-WR-CALDESC:Veranstaltungen für FDP Heidelberg
REFRESH-INTERVAL;VALUE=DURATION:PT1H
X-Robots-Tag:noindex
X-PUBLISHED-TTL:PT1H
BEGIN:VTIMEZONE
TZID:Europe/Berlin
BEGIN:DAYLIGHT
TZOFFSETFROM:+0100
TZOFFSETTO:+0200
TZNAME:CEST
DTSTART:20230326T010000
END:DAYLIGHT
BEGIN:STANDARD
TZOFFSETFROM:+0200
TZOFFSETTO:+0100
TZNAME:CET
DTSTART:20231029T010000
END:STANDARD
BEGIN:DAYLIGHT
TZOFFSETFROM:+0100
TZOFFSETTO:+0200
TZNAME:CEST
DTSTART:20240331T010000
END:DAYLIGHT
BEGIN:STANDARD
TZOFFSETFROM:+0200
TZOFFSETTO:+0100
TZNAME:CET
DTSTART:20241027T010000
END:STANDARD
BEGIN:DAYLIGHT
TZOFFSETFROM:+0100
TZOFFSETTO:+0200
TZNAME:CEST
DTSTART:20250330T010000
END:DAYLIGHT
BEGIN:STANDARD
TZOFFSETFROM:+0200
TZOFFSETTO:+0100
TZNAME:CET
DTSTART:20251026T010000
END:STANDARD
END:VTIMEZONE
BEGIN:VEVENT
DTSTART;TZID=Europe/Berlin:20241211T190000
DTEND;TZID=Europe/Berlin:20241211T210000
DTSTAMP:20260422T092129
CREATED:20241007T190636Z
LAST-MODIFIED:20241007T190636Z
UID:11110-1733943600-1733950800@fdp-heidelberg.de
SUMMARY:Liberaler Stammtisch
DESCRIPTION:Am zweiten Mittwoch im Monat treffen sich die Heidelberger Liberalen zum liberalen Stammtisch. Über Politik\, in Heidelberg\, Berlin und sonst wo\, und über alles andere bei dem ein oder anderen Getränk. Kommen Sie gerne dazu! \nIm Don Robert\, am 11. Dezember ab 19:00 Uhr.
URL:https://fdp-heidelberg.de/termin/liberaler-stammtisch-6/
LOCATION:Don Robert\, Alte Eppelheimer Straße 11\, Heidelberg\, Baden-Württemberg\, 69115
CATEGORIES:Stammtisch
ATTACH;FMTTYPE=image/jpeg:https://fdp-heidelberg.de/wp-content/uploads/2024/10/beer-3570298_1920.jpg
END:VEVENT
BEGIN:VEVENT
DTSTART;TZID=Europe/Berlin:20241227T200000
DTEND;TZID=Europe/Berlin:20241227T213000
DTSTAMP:20260422T092129
CREATED:20241105T130024Z
LAST-MODIFIED:20241105T130024Z
UID:11180-1735329600-1735335000@fdp-heidelberg.de
SUMMARY:Änderungsantragswerkstatt zum Landesparteitag
DESCRIPTION:Am 27. Dezember findet die Änderungsantragswerkstatt der FDP Heidelberg statt. Jedes Jahr gibt es\, am 05. Januar\, einen Landesparteitag der FDP Baden-Württemberg zu dem Vertreter aus dem ganzen Bundesland zusammenkommen und über die Inhalte der FDP Bawü debattieren. Mittlerweile sind alle Anträge eingegangen\, und wir wollen über diese Anträge und mögliche Änderungen an Ihnen sprechen! Wenn Sie sich einbringen wollen und mitbestimmen\, wofür die FDP Baden-Württemberg steht\, schalten Sie sich am Freitag\, den 27. Dezember ab 20:00 Uhr dazu. Das ganze wird digital stattfinden\, für einen Link\, Rückfragen oder Antragsideen melden Sie sich gerne bei ratzel@fdp-heidelberg.de
URL:https://fdp-heidelberg.de/termin/aenderungsantragswerkstatt-zum-landesparteitag/
CATEGORIES:Arbeitskreise
ATTACH;FMTTYPE=image/jpeg:https://fdp-heidelberg.de/wp-content/uploads/2024/08/marvin-meyer-SYTO3xs06fU-unsplash.jpg
END:VEVENT
END:VCALENDAR