BEGIN:VCALENDAR
VERSION:2.0
PRODID:-//FDP Heidelberg - ECPv6.15.20//NONSGML v1.0//EN
CALSCALE:GREGORIAN
METHOD:PUBLISH
X-ORIGINAL-URL:https://fdp-heidelberg.de
X-WR-CALDESC:Veranstaltungen für FDP Heidelberg
REFRESH-INTERVAL;VALUE=DURATION:PT1H
X-Robots-Tag:noindex
X-PUBLISHED-TTL:PT1H
BEGIN:VTIMEZONE
TZID:Europe/Berlin
BEGIN:DAYLIGHT
TZOFFSETFROM:+0100
TZOFFSETTO:+0200
TZNAME:CEST
DTSTART:20230326T010000
END:DAYLIGHT
BEGIN:STANDARD
TZOFFSETFROM:+0200
TZOFFSETTO:+0100
TZNAME:CET
DTSTART:20231029T010000
END:STANDARD
BEGIN:DAYLIGHT
TZOFFSETFROM:+0100
TZOFFSETTO:+0200
TZNAME:CEST
DTSTART:20240331T010000
END:DAYLIGHT
BEGIN:STANDARD
TZOFFSETFROM:+0200
TZOFFSETTO:+0100
TZNAME:CET
DTSTART:20241027T010000
END:STANDARD
BEGIN:DAYLIGHT
TZOFFSETFROM:+0100
TZOFFSETTO:+0200
TZNAME:CEST
DTSTART:20250330T010000
END:DAYLIGHT
BEGIN:STANDARD
TZOFFSETFROM:+0200
TZOFFSETTO:+0100
TZNAME:CET
DTSTART:20251026T010000
END:STANDARD
END:VTIMEZONE
BEGIN:VEVENT
DTSTART;TZID=Europe/Berlin:20241113T190000
DTEND;TZID=Europe/Berlin:20241113T210000
DTSTAMP:20260422T104225
CREATED:20241007T190438Z
LAST-MODIFIED:20241007T190702Z
UID:11106-1731524400-1731531600@fdp-heidelberg.de
SUMMARY:Liberaler Stammtisch
DESCRIPTION:Am zweiten Mittwoch im Monat treffen sich die Heidelberger Liberalen zum liberalen Stammtisch. Über Politik\, in Heidelberg\, Berlin und sonst wo\, und über alles andere bei dem ein oder anderen Getränk. Kommen Sie gerne dazu! Im Don Robert\, am 13. November ab 19:00 Uhr.
URL:https://fdp-heidelberg.de/termin/liberaler-stammtisch-5/
LOCATION:Don Robert\, Alte Eppelheimer Straße 11\, Heidelberg\, Baden-Württemberg\, 69115
CATEGORIES:Stammtisch
ATTACH;FMTTYPE=image/jpeg:https://fdp-heidelberg.de/wp-content/uploads/2024/10/beer-3570298_1920.jpg
END:VEVENT
BEGIN:VEVENT
DTSTART;TZID=Europe/Berlin:20241125T200000
DTEND;TZID=Europe/Berlin:20241125T213000
DTSTAMP:20260422T104225
CREATED:20241105T125536Z
LAST-MODIFIED:20241111T203829Z
UID:11177-1732564800-1732570200@fdp-heidelberg.de
SUMMARY:Abgesagt: Antragswerkstatt zum Landesparteitag
DESCRIPTION:Aufgrund aktueller Ereignisse abgesagt. \nAm 25. November findet die Antragswerkstatt der FDP Heidelberg statt. Jedes Jahr gibt es\, am 05. Januar\, einen Landesparteitag der FDP Baden-Württemberg zu dem Vertreter aus dem ganzen Bundesland zusammenkommen und über die Inhalte der FDP Bawü debattieren. Auch der Kreisverband Heidelberg kann sich dort mit Anträgen einbringen\, und genau darüber wollen wir am Montag\, den 25. November ab 20:00 Uhr sprechen. Das ganze wird digital stattfinden\, für einen Link\, Rückfragen oder Antragsideen melden Sie sich gerne bei ratzel@fdp-heidelberg.de
URL:https://fdp-heidelberg.de/termin/antragswerkstatt-zum-landesparteitag/
CATEGORIES:Arbeitskreise
ATTACH;FMTTYPE=image/jpeg:https://fdp-heidelberg.de/wp-content/uploads/2024/08/marvin-meyer-SYTO3xs06fU-unsplash.jpg
END:VEVENT
END:VCALENDAR