BEGIN:VCALENDAR
VERSION:2.0
PRODID:-//FDP Heidelberg - ECPv6.15.20//NONSGML v1.0//EN
CALSCALE:GREGORIAN
METHOD:PUBLISH
X-WR-CALNAME:FDP Heidelberg
X-ORIGINAL-URL:https://fdp-heidelberg.de
X-WR-CALDESC:Veranstaltungen für FDP Heidelberg
REFRESH-INTERVAL;VALUE=DURATION:PT1H
X-Robots-Tag:noindex
X-PUBLISHED-TTL:PT1H
BEGIN:VTIMEZONE
TZID:Europe/Berlin
BEGIN:DAYLIGHT
TZOFFSETFROM:+0100
TZOFFSETTO:+0200
TZNAME:CEST
DTSTART:20230326T010000
END:DAYLIGHT
BEGIN:STANDARD
TZOFFSETFROM:+0200
TZOFFSETTO:+0100
TZNAME:CET
DTSTART:20231029T010000
END:STANDARD
BEGIN:DAYLIGHT
TZOFFSETFROM:+0100
TZOFFSETTO:+0200
TZNAME:CEST
DTSTART:20240331T010000
END:DAYLIGHT
BEGIN:STANDARD
TZOFFSETFROM:+0200
TZOFFSETTO:+0100
TZNAME:CET
DTSTART:20241027T010000
END:STANDARD
BEGIN:DAYLIGHT
TZOFFSETFROM:+0100
TZOFFSETTO:+0200
TZNAME:CEST
DTSTART:20250330T010000
END:DAYLIGHT
BEGIN:STANDARD
TZOFFSETFROM:+0200
TZOFFSETTO:+0100
TZNAME:CET
DTSTART:20251026T010000
END:STANDARD
END:VTIMEZONE
BEGIN:VEVENT
DTSTART;TZID=Europe/Berlin:20240913T173000
DTEND;TZID=Europe/Berlin:20240913T210000
DTSTAMP:20260422T134735
CREATED:20240819T184608Z
LAST-MODIFIED:20240819T184608Z
UID:11049-1726248600-1726261200@fdp-heidelberg.de
SUMMARY:Herbstfest FDP Heidelberg
DESCRIPTION:Wir laden Sie ganz herzlich zum Herbstfest der FDP Heidelberg in das schöne Kloster Neuburg ein. Am 13. September ab 17:30. Für leckeres Essen und und gute Getränke ist gesorgt\, wir freuen uns auf Sie! \n 
URL:https://fdp-heidelberg.de/termin/herbstfest-fdp-heidelberg/
LOCATION:Klosterstift Neuburg\, Stiftweg 2\, Heidelberg\, Baden-Württemberg\, 69118\, Deutschland
CATEGORIES:Feste
ATTACH;FMTTYPE=image/jpeg:https://fdp-heidelberg.de/wp-content/uploads/2024/08/table-7365122_1920.jpg
END:VEVENT
BEGIN:VEVENT
DTSTART;TZID=Europe/Berlin:20240916T193000
DTEND;TZID=Europe/Berlin:20240916T213000
DTSTAMP:20260422T134735
CREATED:20240819T190835Z
LAST-MODIFIED:20240902T204832Z
UID:11048-1726515000-1726522200@fdp-heidelberg.de
SUMMARY:Mitgliederversammlung FDP Heidelberg
DESCRIPTION:Sehr geehrte Damen und Herren\, liebe Mitglieder\,                                           \n\nim Namen des gesamten Vorstandes lade ich Sie ein zu unserer\n\nMitgliederversammlung am Montag\, den 16. September 2024\, 19.00 Uhr\, in der Geschäftsstelle der FDP Heidelberg\, Im Breitspiel 17\, 69126 Heidelberg \n\nfristgemäß mit der folgenden geänderten\nTagesordnung ein: \n\nBegrüßung\, Feststellung der ordnungsgemäßen Einladung\, Feststellung der Beschlussfähigkeit\nFestlegung der Tagesordnung\nGenehmigung des Protokolls der Mitgliederversammlung vom 24.07.2023\nWahl einer Versammlungsleitung (Leiter/Stellvertreter)\nWahl eines/r Protokollführers/in\nWahl einer Zählkommission\nBerichte\n\nBericht des Kreisvorsitzenden\nBericht des Schatzmeisters\n\n\nSatzungsänderungen\n\nErläuterung & Abstimmung zur Satzungsänderung zur Neusortierung des Kreisvorstandes\n\n\nWahl der Delegierten und Ersatzdelegierten zum Bezirksparteitag\nWahl der Delegierten und Ersatzdelegierten zum Landesparteitag\nWahl der Delegierten und Ersatzdelegierten zum Landeshauptausschuss\nWahl des Kreisverbandsdelegierten und des -ersatzdelegierten zum Bundesparteitag („Kurfürst“)\nVorstellung der kooptierten Vorstandsmitglieder\nBerichte unserer Stadträte aus dem Gemeinderat\nVerschiedenes (u.a. Termine)\n\nIch würde mich freuen\, wenn möglichst viele von Ihnen zur Mitgliederversammlung kommen.\n\nAus organisatorischen Gründen wird um Anmeldung unter info@fdp-heidelberg.de gebeten. Bitte beachten Sie den anhängenden Antrag auf Satzungsänderung. \n\nMit freundlichen Grüßen\n\n\n\n\nTim Nusser
URL:https://fdp-heidelberg.de/termin/mitgliederversammlung-fdp-heidelberg/
LOCATION:Kreisgeschäftsstelle\, Im Breitspiel 17\, Heidelberg\, Baden-Württemberg\, 69126\, Deutschland
CATEGORIES:Interne Veranstaltungen
ATTACH;FMTTYPE=image/jpeg:https://fdp-heidelberg.de/wp-content/uploads/2024/08/marvin-meyer-SYTO3xs06fU-unsplash.jpg
END:VEVENT
BEGIN:VEVENT
DTSTART;TZID=Europe/Berlin:20240917T200000
DTEND;TZID=Europe/Berlin:20240917T213000
DTSTAMP:20260422T134735
CREATED:20240910T133825Z
LAST-MODIFIED:20240910T133825Z
UID:11076-1726603200-1726608600@fdp-heidelberg.de
SUMMARY:Nur Bares ist Wahres!? Hat das Bargeld eine Zukunft?
DESCRIPTION:Dies ist ein Veranstaltungshinweis für eine Veranstaltung der Reinhold-Maier-Stiftung\, die FDP Heidelberg ist nicht selbst an der Veranstaltungsorganisation beteiligt.  \nHier finden Sie den Link zur Veranstaltungsanmeldung\, die allen Bürgerinnen und Bürgern offen steht:  \nhttps://shop.freiheit.org/#!/Veranstaltung/pw2h9\nBargeld ist in Deutschland als physisches und greifbares Zahlungsmittel beliebt. Die D-Mark hatte geradezu Kultstatus\, war sie doch das sichtbare Symbol des deutschen „Wirtschaftswunders“ nach der Währungsreform 1948. Die Einführung des Euro im Jahre 1999 löste die D-Mark als eigenständiges Zahlungsmittel ab und schuf mit seiner Einführung eine gesamteuropäische Währung. Doch der Euro ist mehr als eine Währung und ein Zahlungsmittel: Er steht politisch für Europa als Friedensprojekt. Trotz Euro- und Coronakrise genießt das Bargeld weiterhin einen hohen Stellenwert: es steht für Anonymität\, Souveränität und Schutz der Privatsphäre. Jedoch sind bargeldlose digitale Bezahlvorgänge in Europa auf dem Vormarsch. Insbesondere das mobile Bezahlen mit Smartphone bei jüngeren Menschen hat an Beliebtheit zugenommen. Der Nutzer hinterlässt allerdings seinen „digitalen Fußabdruck“ bei den Anbietern. Diese digitalen Bezahlverfahren werden angesichts der fortschreitenden Digitalisierung der Lebensbereiche von der EZB und der Deutschen Bundesbank durch den digitalen Euro ergänzt\, der jedoch das Bargeld nicht ersetzen\, sondern ergänzen soll.\nZahlen wir zukünftig kaum noch mit Bargeld\, sondern ausschließlich digital? Bewegen wir uns in eine „hyper-digitale Bezahlwelt“\, in der der Datenschutz unter die Räder kommt? Wie selbstbestimmt und autonom sind wir als Akteure und Konsumenten in einer digitalen Bezahlwelt? Oder stehen wir gar vor einer „Bargeld-Renaissance“? \nDiese und weitere Fragen diskutieren wir mit Dr. Florian Toncar MdB\, Parlamentarischer Staatssekretär beim Bundesminister der Finanzen\, und Matthias Callen\, stellvertretender Leiter des Zentralbereiches Bargeld der Deutschen Bundesbank – und mit Ihnen!\nAm Dienstag\, 17.09.2024\, von 20:00 Uhr – 21:30 Uhr.
URL:https://fdp-heidelberg.de/termin/nur-bares-ist-wahres-hat-das-bargeld-eine-zukunft/
LOCATION:ecos work spaces\, O4 4\, Mannheim\, Baden-Württemberg\, 68161\, Deutschland
CATEGORIES:Stiftungsveranstaltungen
ATTACH;FMTTYPE=image/jpeg:https://fdp-heidelberg.de/wp-content/uploads/2024/09/bild-veranstaltung-naumann-stiftung.jpg
END:VEVENT
END:VCALENDAR