BEGIN:VCALENDAR
VERSION:2.0
PRODID:-//FDP Heidelberg - ECPv6.15.20//NONSGML v1.0//EN
CALSCALE:GREGORIAN
METHOD:PUBLISH
X-WR-CALNAME:FDP Heidelberg
X-ORIGINAL-URL:https://fdp-heidelberg.de
X-WR-CALDESC:Veranstaltungen für FDP Heidelberg
REFRESH-INTERVAL;VALUE=DURATION:PT1H
X-Robots-Tag:noindex
X-PUBLISHED-TTL:PT1H
BEGIN:VTIMEZONE
TZID:Europe/Berlin
BEGIN:DAYLIGHT
TZOFFSETFROM:+0100
TZOFFSETTO:+0200
TZNAME:CEST
DTSTART:20230326T010000
END:DAYLIGHT
BEGIN:STANDARD
TZOFFSETFROM:+0200
TZOFFSETTO:+0100
TZNAME:CET
DTSTART:20231029T010000
END:STANDARD
BEGIN:DAYLIGHT
TZOFFSETFROM:+0100
TZOFFSETTO:+0200
TZNAME:CEST
DTSTART:20240331T010000
END:DAYLIGHT
BEGIN:STANDARD
TZOFFSETFROM:+0200
TZOFFSETTO:+0100
TZNAME:CET
DTSTART:20241027T010000
END:STANDARD
BEGIN:DAYLIGHT
TZOFFSETFROM:+0100
TZOFFSETTO:+0200
TZNAME:CEST
DTSTART:20250330T010000
END:DAYLIGHT
BEGIN:STANDARD
TZOFFSETFROM:+0200
TZOFFSETTO:+0100
TZNAME:CET
DTSTART:20251026T010000
END:STANDARD
END:VTIMEZONE
BEGIN:VEVENT
DTSTART;TZID=Europe/Berlin:20240724T193000
DTEND;TZID=Europe/Berlin:20240724T210000
DTSTAMP:20260422T162937
CREATED:20240715T200543Z
LAST-MODIFIED:20240715T200543Z
UID:11024-1721849400-1721854800@fdp-heidelberg.de
SUMMARY:Wahlkreiskonferenz\, Aufstellung eines Bundestagskandidaten
DESCRIPTION:Am 24. Juli findet eine Wahlkreiskonferenz statt\, auf  der  der oder die Kandidierende der FDP für den Bundestagswahlkreis 274 aufgestellt wird. Der Wahlkreis umfasst den Kreisverband Heidelberg und der FDP Rhein-Neckar\, und findet deswegen im Restaurant „Zum Goldenen Hirsch“ in der Heidelberger Straße 3-5 in Schriesheim statt. Wir freuen uns über Ihre Teilnahme!
URL:https://fdp-heidelberg.de/termin/wahlkreiskonferenz-aufstellung-eines-bundestagskandidaten/
LOCATION:Gasthaus zum goldenen Hirsch\, Heidelberger Str. 3-5\, Schriesheim\, Baden-Württemberg\, 69198\, Deutschland
CATEGORIES:Interne Veranstaltungen
END:VEVENT
END:VCALENDAR