BEGIN:VCALENDAR
VERSION:2.0
PRODID:-//FDP Heidelberg - ECPv6.15.20//NONSGML v1.0//EN
CALSCALE:GREGORIAN
METHOD:PUBLISH
X-WR-CALNAME:FDP Heidelberg
X-ORIGINAL-URL:https://fdp-heidelberg.de
X-WR-CALDESC:Veranstaltungen für FDP Heidelberg
REFRESH-INTERVAL;VALUE=DURATION:PT1H
X-Robots-Tag:noindex
X-PUBLISHED-TTL:PT1H
BEGIN:VTIMEZONE
TZID:Europe/Berlin
BEGIN:DAYLIGHT
TZOFFSETFROM:+0100
TZOFFSETTO:+0200
TZNAME:CEST
DTSTART:20230326T010000
END:DAYLIGHT
BEGIN:STANDARD
TZOFFSETFROM:+0200
TZOFFSETTO:+0100
TZNAME:CET
DTSTART:20231029T010000
END:STANDARD
BEGIN:DAYLIGHT
TZOFFSETFROM:+0100
TZOFFSETTO:+0200
TZNAME:CEST
DTSTART:20240331T010000
END:DAYLIGHT
BEGIN:STANDARD
TZOFFSETFROM:+0200
TZOFFSETTO:+0100
TZNAME:CET
DTSTART:20241027T010000
END:STANDARD
BEGIN:DAYLIGHT
TZOFFSETFROM:+0100
TZOFFSETTO:+0200
TZNAME:CEST
DTSTART:20250330T010000
END:DAYLIGHT
BEGIN:STANDARD
TZOFFSETFROM:+0200
TZOFFSETTO:+0100
TZNAME:CET
DTSTART:20251026T010000
END:STANDARD
END:VTIMEZONE
BEGIN:VEVENT
DTSTART;TZID=Europe/Berlin:20240617T190000
DTEND;TZID=Europe/Berlin:20240617T190000
DTSTAMP:20260422T173643
CREATED:20240325T120911Z
LAST-MODIFIED:20240428T103122Z
UID:10817-1718650800-1718650800@fdp-heidelberg.de
SUMMARY:Bericht aus Berlin von Konrad Stockmeier\, MdB
DESCRIPTION:Am 17.06.2024 wird Konrad Stockmeier\, MdB\, aus Mannheim bei uns zu Gast sein und von dem politischen Alltag in Berlin und im Bundestag erzählen. Er ist zuständig für Energie\, und falls Sie schon immer einen Bundesgtagsabgeordneten ausfragen wollten\, kommen Sie gerne vorbei. Wir freuen uns auf Sie!
URL:https://fdp-heidelberg.de/termin/save-the-date-bericht-aus-berlin-von-konrad-stockmeier-mdb/
LOCATION:Kreisgeschäftsstelle\, Im Breitspiel 17\, Heidelberg\, Baden-Württemberg\, 69126\, Deutschland
CATEGORIES:MdB-Veranstaltungen,Referentenveranstaltungen
ATTACH;FMTTYPE=image/jpeg:https://fdp-heidelberg.de/wp-content/uploads/2018/02/Unknown-1.jpeg
END:VEVENT
END:VCALENDAR