BEGIN:VCALENDAR
VERSION:2.0
PRODID:-//FDP Heidelberg - ECPv6.15.20//NONSGML v1.0//EN
CALSCALE:GREGORIAN
METHOD:PUBLISH
X-WR-CALNAME:FDP Heidelberg
X-ORIGINAL-URL:https://fdp-heidelberg.de
X-WR-CALDESC:Veranstaltungen für FDP Heidelberg
REFRESH-INTERVAL;VALUE=DURATION:PT1H
X-Robots-Tag:noindex
X-PUBLISHED-TTL:PT1H
BEGIN:VTIMEZONE
TZID:Europe/Berlin
BEGIN:DAYLIGHT
TZOFFSETFROM:+0100
TZOFFSETTO:+0200
TZNAME:CEST
DTSTART:20230326T010000
END:DAYLIGHT
BEGIN:STANDARD
TZOFFSETFROM:+0200
TZOFFSETTO:+0100
TZNAME:CET
DTSTART:20231029T010000
END:STANDARD
BEGIN:DAYLIGHT
TZOFFSETFROM:+0100
TZOFFSETTO:+0200
TZNAME:CEST
DTSTART:20240331T010000
END:DAYLIGHT
BEGIN:STANDARD
TZOFFSETFROM:+0200
TZOFFSETTO:+0100
TZNAME:CET
DTSTART:20241027T010000
END:STANDARD
BEGIN:DAYLIGHT
TZOFFSETFROM:+0100
TZOFFSETTO:+0200
TZNAME:CEST
DTSTART:20250330T010000
END:DAYLIGHT
BEGIN:STANDARD
TZOFFSETFROM:+0200
TZOFFSETTO:+0100
TZNAME:CET
DTSTART:20251026T010000
END:STANDARD
END:VTIMEZONE
BEGIN:VEVENT
DTSTART;TZID=Europe/Berlin:20240412T190000
DTEND;TZID=Europe/Berlin:20240412T203000
DTSTAMP:20260422T201550
CREATED:20240306T105200Z
LAST-MODIFIED:20240325T114838Z
UID:10537-1712948400-1712953800@fdp-heidelberg.de
SUMMARY:G8/G9\, Ganztag\, Schulfrieden: Was passiert in der Bildungspolitik? Diskussion mit Timm Kern\, MdL
DESCRIPTION:Gerne laden wir Sie alle zu einer Veranstaltung mit Timm Kern\, Bildungspolitischer Sprecher der Landtagsfraktion\, ein. Wir werden mit Ihm über die aktuellen Themen der Bildungspolitik reden. Ganztagsausbau auch an Grundschulen\, Zukunft des Gymnasiums in Baden-Württemberg und alles weitere\, was Sie bewegt. Nach dem großen Erfolg des Bürgerbegehrens\, welches eine Rückkehr zu G9 fordert\, zeigt mittlerweile auch die Landesregierung Einsicht: Eine Rückkehr zu G9 ist geplant. Aber was ist dabei zu beachten? Wie bald kann flächendeckendes G9 wiederkommen? Was sind die offenen Fragen\, worauf müssen sich Eltern jetzt einstellen?\nÜber all das Reden wir am 12.04.\, mit Timm Kern. Start um 19:00 Uhr\, im Qube in der Bahnstadt\, Grüne Meile 21\, 69115 Heidelberg.\nAller Interessierten sind herzlich eingeladen\, diskutieren Sie mit! Wir freuen uns auf Sie.
URL:https://fdp-heidelberg.de/termin/save-the-date-g8-g9-diskussion-mit-timm-kern-mdl/
LOCATION:Qube Hotel Bahnstadt\, Grüne Meile 21\, Heidelberg\, 69115
CATEGORIES:Referentenveranstaltungen
ATTACH;FMTTYPE=image/jpeg:https://fdp-heidelberg.de/wp-content/uploads/2024/03/channels4_profile-e1709722301409.jpg
END:VEVENT
BEGIN:VEVENT
DTSTART;TZID=Europe/Berlin:20240413T173000
DTEND;TZID=Europe/Berlin:20240413T190000
DTSTAMP:20260422T201550
CREATED:20240325T115829Z
LAST-MODIFIED:20240325T115829Z
UID:10813-1713029400-1713034800@fdp-heidelberg.de
SUMMARY:Europa anders Denken - mit Marie-Agnes Strack-Zimmermann\, MdB
DESCRIPTION:Gerne weisen wir Sie auf eine Veranstaltung der FDP Kurpflalz und FDP Walldorf in der Metropolregion hin: Am 13.04.2024 wird Marie-Agnes Strack-Zimmermann\, Spitzenkandidatin der FDP für die Europawahl\, in Walldorf zu Gast sein. Krieg in Europa\, in der Ukraine\, eine mögliche zweite Amtszeit von Trump\, Europa nach dem Brexit: Themen gibt es ohne Frage genug. Wenn Sie mit Frau Strack-Zimmermann ins Gespräch kommen wollen\, haben sie am 13.04\, ab 17:30 Uhr\, in Walldorf im evangelischen Gemeindehaus die Chance dazu.
URL:https://fdp-heidelberg.de/termin/europa-anders-denken-mit-marie-agnes-strack-zimmermann-mdb/
LOCATION:Evangelisches Gemeindehaus\, Schulstraße 4\, Walldorf\, Baden-Württemberg\, 69190
CATEGORIES:Externe Veranstaltung,Referentenveranstaltungen
ATTACH;FMTTYPE=image/jpeg:https://fdp-heidelberg.de/wp-content/uploads/2019/02/2019-02-09.NJE_Strack-ZImmermann-e1642609409371.jpg
END:VEVENT
BEGIN:VEVENT
DTSTART;TZID=Europe/Berlin:20240429T180000
DTEND;TZID=Europe/Berlin:20240429T200000
DTSTAMP:20260422T201550
CREATED:20240221T164643Z
LAST-MODIFIED:20240411T163529Z
UID:10259-1714413600-1714420800@fdp-heidelberg.de
SUMMARY:Umschichten statt Aufblähen - Wie steht es mit dem EU-Haushalt? Mit Moritz Körner\, MdEP
DESCRIPTION:Mit großer Freude laden wir Sie zu einer besonderen Veranstaltung der FDP Heidelberg ein. Wir haben die Gelegenheit Moritz Körner\, Mitglied des Europäischen Parlaments und Vorsitzenden der dortigen FDP\, als unseren Gastredner begrüßen zu dürfen. \nSeit Mai 2019 vertritt Moritz Körner unsere Interessen und Werte auf der europäischen Ebene. Seine Arbeit in Schlüsselausschüssen des Europäischen Parlaments – dem Haushaltsausschuss\, dem Ausschuss für bürgerliche Freiheiten\, Justiz und Inneres sowie der Delegation für die Beziehungen zur Volksrepublik China. Damit nimmt er Teil in der Gestaltung unserer europäischen Zukunft. \nDiese Veranstaltung bietet die Gelegenheit\, um gemeinsam mit Herrn Körner in den Dialog zu treten. Wir wollen ergründen\, wie der EU-Haushalt gestärkt und für zukünftige Herausforderungen gerüstet werden kann. Es geht darum\, Chancen zu nutzen und gleichzeitig effizient und zielgerichtet zu handeln. \nWir freuen uns auf einen anregenden Abend mit tiefgehenden Diskussionen.
URL:https://fdp-heidelberg.de/termin/umschichten-statt-aufblaehen/
LOCATION:Bürgerhaus Bahnstadt\, Gadamerplatz 1\, Heidelberg\, 69115\, Deutschland
CATEGORIES:MdB-Veranstaltungen
ATTACH;FMTTYPE=image/jpeg:https://fdp-heidelberg.de/wp-content/uploads/2024/02/DSC03651-scaled-1.jpg
END:VEVENT
END:VCALENDAR