BEGIN:VCALENDAR
VERSION:2.0
PRODID:-//FDP Heidelberg - ECPv6.15.20//NONSGML v1.0//EN
CALSCALE:GREGORIAN
METHOD:PUBLISH
X-WR-CALNAME:FDP Heidelberg
X-ORIGINAL-URL:https://fdp-heidelberg.de
X-WR-CALDESC:Veranstaltungen für FDP Heidelberg
REFRESH-INTERVAL;VALUE=DURATION:PT1H
X-Robots-Tag:noindex
X-PUBLISHED-TTL:PT1H
BEGIN:VTIMEZONE
TZID:Europe/Berlin
BEGIN:DAYLIGHT
TZOFFSETFROM:+0100
TZOFFSETTO:+0200
TZNAME:CEST
DTSTART:20230326T010000
END:DAYLIGHT
BEGIN:STANDARD
TZOFFSETFROM:+0200
TZOFFSETTO:+0100
TZNAME:CET
DTSTART:20231029T010000
END:STANDARD
BEGIN:DAYLIGHT
TZOFFSETFROM:+0100
TZOFFSETTO:+0200
TZNAME:CEST
DTSTART:20240331T010000
END:DAYLIGHT
BEGIN:STANDARD
TZOFFSETFROM:+0200
TZOFFSETTO:+0100
TZNAME:CET
DTSTART:20241027T010000
END:STANDARD
BEGIN:DAYLIGHT
TZOFFSETFROM:+0100
TZOFFSETTO:+0200
TZNAME:CEST
DTSTART:20250330T010000
END:DAYLIGHT
BEGIN:STANDARD
TZOFFSETFROM:+0200
TZOFFSETTO:+0100
TZNAME:CET
DTSTART:20251026T010000
END:STANDARD
END:VTIMEZONE
BEGIN:VEVENT
DTSTART;TZID=Europe/Berlin:20240312T190000
DTEND;TZID=Europe/Berlin:20240312T210000
DTSTAMP:20260422T213354
CREATED:20240212T105210Z
LAST-MODIFIED:20240212T105210Z
UID:10244-1710270000-1710277200@fdp-heidelberg.de
SUMMARY:Gemeinsam gegen Rassismus: Vortrag\, Austausch und Workshop der Heidelberger Parteien
DESCRIPTION:Gerne laden wir Sie zu einer gemeinsamen Veranstaltung gegen Rassismus ein. Veranstaltet von den demokratischen Parteien des Heidelberger Gemeinderates\, am 12.03.2024\, ab 19:00\, in der DAI Bibliothek. Neben einer Diskussion wird es auch Workshops geben\, wir wollen in einen positiven Austausch kommen und die große Beteiligung an der Demonstration gegen Rechtsextremismus weiterführen. Falls auch Sie sich informieren und engagieren wollen\, mit den politischen Vertretern ins Gespräch kommen wollen\, kommen Sie vorbei!
URL:https://fdp-heidelberg.de/termin/gemeinsam-gegen-rassismus-vortrag-austausch-und-workshop-der-heidelberger-parteien/
LOCATION:DAI Bibliothek\, Sofienstraße 12\, Heidelberg\, Baden-Württemberg\, 69115\, Deutschland
CATEGORIES:Externe Veranstaltung
ATTACH;FMTTYPE=image/png:https://fdp-heidelberg.de/wp-content/uploads/2024/02/ausschnitt-plakat-veranstaltung-12.03.2024.png
END:VEVENT
END:VCALENDAR