BEGIN:VCALENDAR
VERSION:2.0
PRODID:-//FDP Heidelberg - ECPv6.15.20//NONSGML v1.0//EN
CALSCALE:GREGORIAN
METHOD:PUBLISH
X-WR-CALNAME:FDP Heidelberg
X-ORIGINAL-URL:https://fdp-heidelberg.de
X-WR-CALDESC:Veranstaltungen für FDP Heidelberg
REFRESH-INTERVAL;VALUE=DURATION:PT1H
X-Robots-Tag:noindex
X-PUBLISHED-TTL:PT1H
BEGIN:VTIMEZONE
TZID:Europe/Berlin
BEGIN:DAYLIGHT
TZOFFSETFROM:+0100
TZOFFSETTO:+0200
TZNAME:CEST
DTSTART:20230326T010000
END:DAYLIGHT
BEGIN:STANDARD
TZOFFSETFROM:+0200
TZOFFSETTO:+0100
TZNAME:CET
DTSTART:20231029T010000
END:STANDARD
BEGIN:DAYLIGHT
TZOFFSETFROM:+0100
TZOFFSETTO:+0200
TZNAME:CEST
DTSTART:20240331T010000
END:DAYLIGHT
BEGIN:STANDARD
TZOFFSETFROM:+0200
TZOFFSETTO:+0100
TZNAME:CET
DTSTART:20241027T010000
END:STANDARD
BEGIN:DAYLIGHT
TZOFFSETFROM:+0100
TZOFFSETTO:+0200
TZNAME:CEST
DTSTART:20250330T010000
END:DAYLIGHT
BEGIN:STANDARD
TZOFFSETFROM:+0200
TZOFFSETTO:+0100
TZNAME:CET
DTSTART:20251026T010000
END:STANDARD
END:VTIMEZONE
BEGIN:VEVENT
DTSTART;TZID=Europe/Berlin:20240124T190000
DTEND;TZID=Europe/Berlin:20240124T213000
DTSTAMP:20260423T002141
CREATED:20231030T201322Z
LAST-MODIFIED:20240117T133355Z
UID:10122-1706122800-1706131800@fdp-heidelberg.de
SUMMARY:Neujahrsempfang der FDP Heidelberg mit MdB\, Staatssekretär Dr. Toncar
DESCRIPTION:Am 24. Januar 2024 laden wir Sie zum Neujahrsempfang der FDP Heidelberg ein. Wir freuen uns sehr\, dass Dr. Florian Toncar\, parlamentarischer Staatssekretär beim Bundesminister der Finanzen und Mitglied des Deutschen Bundestages\, als Gastredner bei uns sein wird. Neben seinen Einsichten in die aktuellen haushaltspolitischen Entwicklungen auf Bundesebene werden wir selbstverständlich auch über die anstehende Kommunal- und Europawahl sprechen. \nDer Neujahrsempfang bietet eine ausgezeichnete Gelegenheit\, sich mit anderen Mitgliedern und Gästen auszutauschen und über Ihre Vorstellungen für ein Heidelberg der Zukunft zu sprechen. \nWir freuen uns auf Ihr Erscheinen! \nEmpfang ab 18:30 Uhr\, Programmbeginn 19:00 Uhr.
URL:https://fdp-heidelberg.de/termin/neujahrsempfang-der-fdp-heidelberg-mit-staatssekretaer-toncar/
LOCATION:Palais Prinz Carl\, Kornmarkt 1\, Heidelberg
CATEGORIES:Feste
ATTACH;FMTTYPE=image/jpeg:https://fdp-heidelberg.de/wp-content/uploads/2022/05/Dr._Florian_Toncar-scaled.jpg
END:VEVENT
END:VCALENDAR