BEGIN:VCALENDAR
VERSION:2.0
PRODID:-//FDP Heidelberg - ECPv6.15.20//NONSGML v1.0//EN
CALSCALE:GREGORIAN
METHOD:PUBLISH
X-ORIGINAL-URL:https://fdp-heidelberg.de
X-WR-CALDESC:Veranstaltungen für FDP Heidelberg
REFRESH-INTERVAL;VALUE=DURATION:PT1H
X-Robots-Tag:noindex
X-PUBLISHED-TTL:PT1H
BEGIN:VTIMEZONE
TZID:Europe/Berlin
BEGIN:DAYLIGHT
TZOFFSETFROM:+0100
TZOFFSETTO:+0200
TZNAME:CEST
DTSTART:20220327T010000
END:DAYLIGHT
BEGIN:STANDARD
TZOFFSETFROM:+0200
TZOFFSETTO:+0100
TZNAME:CET
DTSTART:20221030T010000
END:STANDARD
BEGIN:DAYLIGHT
TZOFFSETFROM:+0100
TZOFFSETTO:+0200
TZNAME:CEST
DTSTART:20230326T010000
END:DAYLIGHT
BEGIN:STANDARD
TZOFFSETFROM:+0200
TZOFFSETTO:+0100
TZNAME:CET
DTSTART:20231029T010000
END:STANDARD
BEGIN:DAYLIGHT
TZOFFSETFROM:+0100
TZOFFSETTO:+0200
TZNAME:CEST
DTSTART:20240331T010000
END:DAYLIGHT
BEGIN:STANDARD
TZOFFSETFROM:+0200
TZOFFSETTO:+0100
TZNAME:CET
DTSTART:20241027T010000
END:STANDARD
END:VTIMEZONE
BEGIN:VEVENT
DTSTART;TZID=Europe/Berlin:20230705T193000
DTEND;TZID=Europe/Berlin:20230705T210000
DTSTAMP:20260423T090212
CREATED:20230619T193046Z
LAST-MODIFIED:20230619T193046Z
UID:10002-1688585400-1688590800@fdp-heidelberg.de
SUMMARY:Neumitgliedertreffen FDP Heidelberg
DESCRIPTION:Liebe Mitglieder\, insbesondere neue Mitglieder\, am 7. Juli treffen wir uns ab 19:30 im illegally tasty in Rohrbach zum Neumitgliedertreffen. Wenn Sie den Kreisvorstand kennen lernen wollen\, unseren Fraktionsvorsitzenden im Gemeinderat kennenlernen wollen\, oder auch sonst einfach eine Pizza und ein kühles Getränk in netter Runde trinken und essen wollen\, kommen Sie vorbei! \nWir freuen uns auf allen neuen Gesichter!
URL:https://fdp-heidelberg.de/termin/neumitgliedertreffen-fdp-heidelberg/
LOCATION:illegaly tasty\, Rathausstraße 58\, Heidelberg\, Baden-Württemberg\, 69126\, Deutschland
CATEGORIES:Interne Veranstaltungen
ATTACH;FMTTYPE=image/jpeg:https://fdp-heidelberg.de/wp-content/uploads/2023/06/miha-rekar-gRaWRTnvBF4-unsplash-scaled.jpeg
END:VEVENT
BEGIN:VEVENT
DTSTART;VALUE=DATE:20230716
DTEND;VALUE=DATE:20230717
DTSTAMP:20260423T090212
CREATED:20230216T214750Z
LAST-MODIFIED:20230614T121459Z
UID:9726-1689465600-1689551999@fdp-heidelberg.de
SUMMARY:Gemeinsames Grillen FDP Kurpfalz und Mittelbaden
DESCRIPTION:Am 16.07.2023 wird die FDP Kurpfalz auf dem Grillplatz in Schwetzingen zu einem Grillfest einladen\, gemeinsam mit der FDP Mittelbaden. Wer Mitglieder aus anderen Kreisverbänden und einem anderen Bezirk kennen lernen will\, ist gerne Willkommen. Weitere Informationen zur Verpflegung und Gästen folgt. \nAdresse: Grillhütte Schwetzingen\, B291\, 68723 Schwetzingen
URL:https://fdp-heidelberg.de/termin/save-the-date-gemeinsames-grillen-fdp-kurpfalz-und-mittelbaden/
LOCATION:Grillhütte Schwetzingen\, B291\, Schwetzingen\, Baden-Württemberg\, 68723\, Deutschland
CATEGORIES:Feste
ATTACH;FMTTYPE=image/jpeg:https://fdp-heidelberg.de/wp-content/uploads/2021/06/beer-garden-1670028__480.jpg
END:VEVENT
BEGIN:VEVENT
DTSTART;TZID=Europe/Berlin:20230721T173000
DTEND;TZID=Europe/Berlin:20230721T220000
DTSTAMP:20260423T090212
CREATED:20230415T074940Z
LAST-MODIFIED:20230522T185707Z
UID:9901-1689960600-1689976800@fdp-heidelberg.de
SUMMARY:Großes Sommerfest der FDP Heidelberg
DESCRIPTION:Liebe Mitglieder\, Liebe Freundinnen und Freunde der FDP Heidelberg\,\nWir laden Sie zu einem rauschenden Sommerfest in traumhafter Kulisse ein. \nDas FDP Sommerfest findet am Freitag\, 21.07.2023 ab 17:30 Uhr im Kloster Stift Neuburg (Stiftweg 2\, 69118 Heidelberg) statt. \nWir treffen uns im Innenhof\, hinter den ehemaligen Stallungen\, bei der Klosterbrauerei. Freuen Sie sich auf verschiedene Leckereien vom Grillprofi und frisch gebraute Bierspezialitäten zum selber zapfen.\nEine Anmeldung ist erwünscht\, info@fdp-heidelberg.de oder direkt bei Oliver Wolf\, Geschäftsführer FDP Heidelberg. \nWir freuen uns auf Sie! \n  \n 
URL:https://fdp-heidelberg.de/termin/grosses-sommerfest-der-fdp-heidelberg/
LOCATION:Klosterstift Neuburg\, Stiftweg 2\, Heidelberg\, Baden-Württemberg\, 69118\, Deutschland
CATEGORIES:Feste
ATTACH;FMTTYPE=image/jpeg:https://fdp-heidelberg.de/wp-content/uploads/2023/04/haengelampen-im-outdoor-restaurant-mit-mehreren-besuchern-im-hintergrund-bbq.jpg
END:VEVENT
BEGIN:VEVENT
DTSTART;TZID=Europe/Berlin:20230724T190000
DTEND;TZID=Europe/Berlin:20230724T190000
DTSTAMP:20260423T090212
CREATED:20230619T190304Z
LAST-MODIFIED:20230705T123526Z
UID:9996-1690225200-1690225200@fdp-heidelberg.de
SUMMARY:Mitgliederversammlung FDP Heidelberg zu Europa
DESCRIPTION:Wir laden Sie herzlich zu der Mitgliederversammlung der FDP Heidelberg am 24. Juli ein. Es wird um die Europawahl gehen\, die Wahl eines Kandidaten für die Europawahl steht an. Aber natürlich wird es auch Gelegenheit geben\, mit dem Vorstand ins Gespräch zu kommen und über die kommende Kommunalwahl zu reden.\nEs wird um 19:00 Uhr starten\, und findet\, wie bereits mehrfach\, in der Heidelberg Brauerei\, Kurzpfalzring 112\, statt.\nUm eine Anmeldung bei Oliver Wolf\, Geschäftsführer FDP Heidelberg\, unter: wolf@fdp-heidelberg.de wird gebeten. \nWir freuen uns auf Sie!
URL:https://fdp-heidelberg.de/termin/save-the-date-mitgliederversammlung-zu-europa/
LOCATION:„Darre“ der Heidelberger Brauerei\, Kurpfalzring 112\, Heidelberg\, 69123\, Deutschland
CATEGORIES:Interne Veranstaltungen
ATTACH;FMTTYPE=image/jpeg:https://fdp-heidelberg.de/wp-content/uploads/2023/06/christian-lue-8Yw6tsB8tnc-unsplash-scaled.jpeg
END:VEVENT
END:VCALENDAR