BEGIN:VCALENDAR
VERSION:2.0
PRODID:-//FDP Heidelberg - ECPv6.15.20//NONSGML v1.0//EN
CALSCALE:GREGORIAN
METHOD:PUBLISH
X-ORIGINAL-URL:https://fdp-heidelberg.de
X-WR-CALDESC:Veranstaltungen für FDP Heidelberg
REFRESH-INTERVAL;VALUE=DURATION:PT1H
X-Robots-Tag:noindex
X-PUBLISHED-TTL:PT1H
BEGIN:VTIMEZONE
TZID:Europe/Berlin
BEGIN:DAYLIGHT
TZOFFSETFROM:+0100
TZOFFSETTO:+0200
TZNAME:CEST
DTSTART:20250330T010000
END:DAYLIGHT
BEGIN:STANDARD
TZOFFSETFROM:+0200
TZOFFSETTO:+0100
TZNAME:CET
DTSTART:20251026T010000
END:STANDARD
BEGIN:DAYLIGHT
TZOFFSETFROM:+0100
TZOFFSETTO:+0200
TZNAME:CEST
DTSTART:20260329T010000
END:DAYLIGHT
BEGIN:STANDARD
TZOFFSETFROM:+0200
TZOFFSETTO:+0100
TZNAME:CET
DTSTART:20261025T010000
END:STANDARD
BEGIN:DAYLIGHT
TZOFFSETFROM:+0100
TZOFFSETTO:+0200
TZNAME:CEST
DTSTART:20270328T010000
END:DAYLIGHT
BEGIN:STANDARD
TZOFFSETFROM:+0200
TZOFFSETTO:+0100
TZNAME:CET
DTSTART:20271031T010000
END:STANDARD
END:VTIMEZONE
BEGIN:VEVENT
DTSTART;TZID=Europe/Berlin:20260425T090000
DTEND;TZID=Europe/Berlin:20260425T130000
DTSTAMP:20260419T224112
CREATED:20260403T141532Z
LAST-MODIFIED:20260403T141532Z
UID:12389-1777107600-1777122000@fdp-heidelberg.de
SUMMARY:Infostand Neuenheim: Städtischer Haushalt\, Windkraft\, Sozialarbeit in den Schulen
DESCRIPTION:Kommen Sie dazu und diskutieren Sie mit! Mit unseren Ständen in den Stadtteilen wollen wir Angebote schaffen für Information\, Austausch und Diskussion vor Ort\, mit einem Fokus auf kommunalen Themen.
URL:https://fdp-heidelberg.de/termin/infostand-neuenheim-2026-1/
LOCATION:Marktplatz\, Neuenheim
ATTACH;FMTTYPE=image/jpeg:https://fdp-heidelberg.de/wp-content/uploads/2026/04/thomas-reaubourg-JRUVbgJJTBM-unsplash.jpg
END:VEVENT
BEGIN:VEVENT
DTSTART;TZID=Europe/Berlin:20260511T200000
DTEND;TZID=Europe/Berlin:20260511T210000
DTSTAMP:20260419T224112
CREATED:20260410T123309Z
LAST-MODIFIED:20260410T123736Z
UID:12402-1778529600-1778533200@fdp-heidelberg.de
SUMMARY:Henning Höne stellt sich vor!
DESCRIPTION:Wir haben Henning Höne und Wolfgang Kubicki für eine digitale Vorstellungsrunde angefragt. Henning Höne hat jetzt für den 11.5.26 20:00 Uhr zugesagt. Details e.g. link zum Event werden wir hier und in einem der nächsten Newsletter veröffentlichen.
URL:https://fdp-heidelberg.de/termin/henning-hoene-stellt-sich-vor/
CATEGORIES:Online-Veranstaltungen
ATTACH;FMTTYPE=image/png:https://fdp-heidelberg.de/wp-content/uploads/2026/04/hoene-e1775824624691.png
END:VEVENT
BEGIN:VEVENT
DTSTART;TZID=Europe/Berlin:20260519T190000
DTEND;TZID=Europe/Berlin:20260519T220000
DTSTAMP:20260419T224112
CREATED:20260403T140153Z
LAST-MODIFIED:20260403T140153Z
UID:12386-1779217200-1779228000@fdp-heidelberg.de
SUMMARY:Save-the-Date: Mitgliederversammlung FDP KV Heidelberg
DESCRIPTION:Sehr herzlich laden wir alle unsere Mitglieder zu unserer Mitgliederversammlung ein. Eine gesonderte postalische Einladung geht allen Mitgliedern zu. Hauptsächlicher Tagesordnungspunkt wird die Neuwahl des Vorstands sein.\nWeitere Information folgen hier zu gegebener Zeit.
URL:https://fdp-heidelberg.de/termin/mitgliederversammlung-2026/
CATEGORIES:Interne Veranstaltungen
ATTACH;FMTTYPE=image/png:https://fdp-heidelberg.de/wp-content/uploads/2025/02/KVHD_Header.png
END:VEVENT
END:VCALENDAR